BEGIN:VCALENDAR
VERSION:2.0
PRODID:-//Park Ave Magazine | Winter Park Florida - ECPv6.15.17.1//NONSGML v1.0//EN
CALSCALE:GREGORIAN
METHOD:PUBLISH
X-ORIGINAL-URL:https://parkavemagazine.com
X-WR-CALDESC:Events for Park Ave Magazine | Winter Park Florida
REFRESH-INTERVAL;VALUE=DURATION:PT1H
X-Robots-Tag:noindex
X-PUBLISHED-TTL:PT1H
BEGIN:VTIMEZONE
TZID:America/New_York
BEGIN:DAYLIGHT
TZOFFSETFROM:-0500
TZOFFSETTO:-0400
TZNAME:EDT
DTSTART:20220313T070000
END:DAYLIGHT
BEGIN:STANDARD
TZOFFSETFROM:-0400
TZOFFSETTO:-0500
TZNAME:EST
DTSTART:20221106T060000
END:STANDARD
BEGIN:DAYLIGHT
TZOFFSETFROM:-0500
TZOFFSETTO:-0400
TZNAME:EDT
DTSTART:20230312T070000
END:DAYLIGHT
BEGIN:STANDARD
TZOFFSETFROM:-0400
TZOFFSETTO:-0500
TZNAME:EST
DTSTART:20231105T060000
END:STANDARD
BEGIN:DAYLIGHT
TZOFFSETFROM:-0500
TZOFFSETTO:-0400
TZNAME:EDT
DTSTART:20240310T070000
END:DAYLIGHT
BEGIN:STANDARD
TZOFFSETFROM:-0400
TZOFFSETTO:-0500
TZNAME:EST
DTSTART:20241103T060000
END:STANDARD
END:VTIMEZONE
BEGIN:VEVENT
DTSTART;TZID=America/New_York:20230603T100000
DTEND;TZID=America/New_York:20230603T110000
DTSTAMP:20260421T160742
CREATED:20230526T231334Z
LAST-MODIFIED:20230526T231424Z
UID:96133-1685786400-1685790000@parkavemagazine.com
SUMMARY:Attracting Birds with FL Native Wildflowers- Seminar @ Lukas Nursery
DESCRIPTION:Attracting Birds with FL Native Wildflowers- Seminar @ Lukas Nursery\nAttracting Birds with FL Native Wildflowers- Seminar @ Lukas Nursery\nThis seminar will be held on 2 days:\nWednesday\, May 31st @ 10am\nSaturday\, June 3rd @ 10am \nJoin us for a FREE seminar hosted by our certified Horticulturists. This seminar will discuss how to plant the best Florida native plants to attract Florida’s wild birds! Our friends at Seminole Audubon Society will be offering valuable insight at this seminar. \nSeminars will be hosted outside. Limited table seating will be provided. We encourage those who need additional spacing for comfortable social distancing to bring a folding chair. No RSVP or registration prior to the seminar. \nLukas Nursery not only has the largest selection of landscape\, patio\, and indoor plants around\, but also one of the largest native butterfly conservatories in the state of Florida. Our dedicated staff of Florida Certified Horticultural Professionals\, Master Gardeners\, and landscape design specialist are here to help you get the job done right the first time. \nLukas Nursery\nEstablished in 1912\, Lukas Nursery and Butterfly Encounter is one of the largest nurseries and butterfly conservatories in the state of Florida. \nLukas Nursery is a fourth-generation\, family-owned and operated agri-business. We take pride in offering exceptional quality plants and products with competitive pricing and exemplary customer service. \nWe are thankful to God for blessing the labors of our hands and for guiding our lives. Green survival and the beautification of our environment -It’s the concern of all of us!
URL:https://parkavemagazine.com/event/attracting-birds-with-fl-native-wildflowers-seminar-lukas-nursery-june-3/
LOCATION:Lukas Nursery & Butterfly Encounter\, 1909 Slavia Rd\, Oviedo\, FL\, 32765\, United States
CATEGORIES:Gardening,Nature
ATTACH;FMTTYPE=image/jpeg:https://parkavemagazine.com/wp-content/uploads/2023/05/347431089_938008920590024_6564830494315403589_n.jpg
END:VEVENT
BEGIN:VEVENT
DTSTART;TZID=America/New_York:20230531T100000
DTEND;TZID=America/New_York:20230531T110000
DTSTAMP:20260421T160742
CREATED:20230526T224944Z
LAST-MODIFIED:20230526T230514Z
UID:96127-1685527200-1685530800@parkavemagazine.com
SUMMARY:Attracting Birds with FL Native Wildflowers- Seminar @ Lukas Nursery
DESCRIPTION:Attracting Birds with FL Native Wildflowers- Seminar @ Lukas Nursery\nAttracting Birds with FL Native Wildflowers- Seminar @ Lukas Nursery\nThis seminar will be held on 2 days:\nWednesday\, May 31st @ 10am\nSaturday\, June 3rd @ 10am \nJoin us for a FREE seminar hosted by our certified Horticulturists. This seminar will discuss how to plant the best Florida native plants to attract Florida’s wild birds! Our friends at Seminole Audubon Society will be offering valuable insight at this seminar. \nSeminars will be hosted outside. Limited table seating will be provided. We encourage those who need additional spacing for comfortable social distancing to bring a folding chair. No RSVP or registration prior to the seminar. \nLukas Nursery not only has the largest selection of landscape\, patio\, and indoor plants around\, but also one of the largest native butterfly conservatories in the state of Florida. Our dedicated staff of Florida Certified Horticultural Professionals\, Master Gardeners\, and landscape design specialist are here to help you get the job done right the first time. \nLukas Nursery\nEstablished in 1912\, Lukas Nursery and Butterfly Encounter is one of the largest nurseries and butterfly conservatories in the state of Florida. \nLukas Nursery is a fourth-generation\, family-owned and operated agri-business. We take pride in offering exceptional quality plants and products with competitive pricing and exemplary customer service. \nWe are thankful to God for blessing the labors of our hands and for guiding our lives. Green survival and the beautification of our environment -It’s the concern of all of us!
URL:https://parkavemagazine.com/event/attracting-birds-with-fl-native-wildflowers-seminar-lukas-nursery-may-31/
LOCATION:Lukas Nursery & Butterfly Encounter\, 1909 Slavia Rd\, Oviedo\, FL\, 32765\, United States
CATEGORIES:Gardening,Nature
ATTACH;FMTTYPE=image/jpeg:https://parkavemagazine.com/wp-content/uploads/2023/05/347431089_938008920590024_6564830494315403589_n.jpg
END:VEVENT
BEGIN:VEVENT
DTSTART;TZID=America/New_York:20230528T110000
DTEND;TZID=America/New_York:20230528T130000
DTSTAMP:20260421T160742
CREATED:20230506T043141Z
LAST-MODIFIED:20230506T043141Z
UID:95691-1685271600-1685278800@parkavemagazine.com
SUMMARY:Forest Bathing with Julie at Mead Botanical Garden
DESCRIPTION:Forest Bathing with Julie at Mead Botanical Garden\n\nForest Bathing with Julie at Mead Botanical Garden – This is NOT a naked bath experience.  We will be fully clothed. \n\nForest Bathing is inspired by the Japanese practice of ‘shinrin yoku’. Shinrin means forest and yoku means bath. It’s a process where we experience the forest (nature) through our sense. It’s also scientifically been proven that the trees release a chemical called phytoncide. It’s used to protect them from harmful bugs and germs\, and helps us do the same in our bodies. \nRelax. Let Go. Release. Give Nature…and Receive. ⁣\nTime in Nature is essential to ground and embody the goodness Life has to offer. ⁣It is uplifts the mood\, boosts the immune system\, and relieves stress. \n🌳 We’ll sit with nature and listen. ⁣\n🌳 We’ll meditation\, journal and give into Nature’s invitation. ⁣\n🌳 We’ll Forest Bath. Exchange breaths with the trees\, and receive their healing.⁣ \nAre you wondering about something in your Life? Or looking for answers\, but haven’t had the time to sit still and let the answers come?⁣\nDo you just want to feel good?⁣\nDoes hanging out with trees\, the wind and sun sound like an amazing time to you?⁣<\nInterested in boosting your immune system\, reducing stress\, taking a deep breath\, and an overall sense of well-being? \nIf you answered Yes to any of these questions\, this is the event for you. Join us as Julie guides you to listen and spend intentional time with the plants\, the wind\, the rocks\, the water\, the birds and the general landscape of Mead Botanical Garden. \nYou’ll be guided through this experience by Julie\, plant-based nutritionist\, herbalist and shamanic practitioner. She recently moved from California where she regularly spent time in the forest and the plants. \nPLEASE BRING THE FOLLOWING:\n1. A journal\n2. A blanket or yoga mat\, something to sit on\n3. Bug repellent\, just in case \n\nMeeting location: Please meet a few minutes prior to class start time in front of the public restrooms located next to the parking lot. \n\nRegister Here
URL:https://parkavemagazine.com/event/forest-bathing-with-julie-at-mead-botanical-garden-may-28-23/
LOCATION:Mead Botanical Garden\, 1300 South Denning Drive\, Winter Park\, FL\, 32789\, United States
CATEGORIES:Local,Nature,Wellness
ATTACH;FMTTYPE=image/jpeg:https://parkavemagazine.com/wp-content/uploads/2023/05/323619815_875982040399168_8689259782406187228_n-scaled.jpg
END:VEVENT
BEGIN:VEVENT
DTSTART;TZID=America/New_York:20230514T110000
DTEND;TZID=America/New_York:20230514T130000
DTSTAMP:20260421T160742
CREATED:20230506T042456Z
LAST-MODIFIED:20230506T043008Z
UID:95684-1684062000-1684069200@parkavemagazine.com
SUMMARY:Forest Bathing with Julie at Mead Botanical Garden
DESCRIPTION:Forest Bathing with Julie at Mead Botanical Garden\n\nForest Bathing with Julie at Mead Botanical Garden – This is NOT a naked bath experience.  We will be fully clothed. \n\nForest Bathing is inspired by the Japanese practice of ‘shinrin yoku’. Shinrin means forest and yoku means bath. It’s a process where we experience the forest (nature) through our sense. It’s also scientifically been proven that the trees release a chemical called phytoncide. It’s used to protect them from harmful bugs and germs\, and helps us do the same in our bodies. \nRelax. Let Go. Release. Give Nature…and Receive. ⁣\nTime in Nature is essential to ground and embody the goodness Life has to offer. ⁣It is uplifts the mood\, boosts the immune system\, and relieves stress. \n🌳 We’ll sit with nature and listen. ⁣\n🌳 We’ll meditation\, journal and give into Nature’s invitation. ⁣\n🌳 We’ll Forest Bath. Exchange breaths with the trees\, and receive their healing.⁣ \nAre you wondering about something in your Life? Or looking for answers\, but haven’t had the time to sit still and let the answers come?⁣\nDo you just want to feel good?⁣\nDoes hanging out with trees\, the wind and sun sound like an amazing time to you?⁣<\nInterested in boosting your immune system\, reducing stress\, taking a deep breath\, and an overall sense of well-being? \nIf you answered Yes to any of these questions\, this is the event for you. Join us as Julie guides you to listen and spend intentional time with the plants\, the wind\, the rocks\, the water\, the birds and the general landscape of Mead Botanical Garden. \nYou’ll be guided through this experience by Julie\, plant-based nutritionist\, herbalist and shamanic practitioner. She recently moved from California where she regularly spent time in the forest and the plants. \nPLEASE BRING THE FOLLOWING:\n1. A journal\n2. A blanket or yoga mat\, something to sit on\n3. Bug repellent\, just in case \n\nMeeting location: Please meet a few minutes prior to class start time in front of the public restrooms located next to the parking lot. \n\nRegister Here
URL:https://parkavemagazine.com/event/forest-bathing-with-julie-at-mead-botanical-garden-may-14-2023/
LOCATION:Mead Botanical Garden\, 1300 South Denning Drive\, Winter Park\, FL\, 32789\, United States
CATEGORIES:Local,Nature,Wellness
ATTACH;FMTTYPE=image/jpeg:https://parkavemagazine.com/wp-content/uploads/2023/05/323619815_875982040399168_8689259782406187228_n-scaled.jpg
END:VEVENT
BEGIN:VEVENT
DTSTART;TZID=America/New_York:20230408T170000
DTEND;TZID=America/New_York:20230408T200000
DTSTAMP:20260421T160742
CREATED:20230401T045637Z
LAST-MODIFIED:20230401T045637Z
UID:94716-1680973200-1680984000@parkavemagazine.com
SUMMARY:BEER LAUNCH PARTY! "Loquat You Made Me Do!" by Ravenous Pig x Fleet Farming
DESCRIPTION:BEER LAUNCH PARTY! “Loquat You Made Me Do!” by Ravenous Pig x Fleet Farming\n“Loquat You Made Me Do” is a new beer by Fleet Farming x Ravenous Pig Brewing Co. This golden ale is made with hyperlocal loquat\, lemon and mint…we can’t wait for you to try it! \nJoin us on Saturday\, April 8th from 5 – 8 pm at the Ravenous Pig Beer Garden at 511 West Fairbanks Ave in Winter Park for live music\, delicious food\, and a new brew! \nRavenous Pig is graciously donating $1 per pint sold at this launch party to Fleet Farming’s nonprofit educational programming and environmental restoration work. \nDRINK UP FOR THE EARTH WITH US 🌎 🚲 🥕 \nWhat is Fleet Farming?\nFleet Farming is a non-profit urban agriculture program of IDEAS For Us that transforms the average American lawn into a bio-verse\, productive micro-farms\, and edible gardens. \nOur mission is to empower all generations to grow food to increase local food accessibility. \nVision\nOur vision is to create localized food systems that bring communities together towards a healthier\, more connected world in harmony with people and planet. We accomplish this by converting underutilized lawn space into productive localized edible gardens or micro farms. Our program works to provide edible landscaping to schools\, community centers and affordable housing units. we also serve businesses and individuals through our community farming initiative and Edible Landscapes garden installation service. Together\, we are changing the cycle of food.
URL:https://parkavemagazine.com/event/beer-launch-party-loquat-you-made-me-do-by-ravenous-pig-x-fleet-farming/
LOCATION:The Ravenous Pig\, 511 West Fairbanks Avenue\, Winter Park\, FL\, 32789\, United States
CATEGORIES:Causes,Food,Nature
ATTACH;FMTTYPE=image/jpeg:https://parkavemagazine.com/wp-content/uploads/2023/03/https-__cdn.evbuc_.com_images_479815039_289579776663_1_original.jpg
END:VEVENT
BEGIN:VEVENT
DTSTART;TZID=America/New_York:20230408T160000
DTEND;TZID=America/New_York:20230408T203000
DTSTAMP:20260421T160742
CREATED:20230311T023446Z
LAST-MODIFIED:20230311T023446Z
UID:94569-1680969600-1680985800@parkavemagazine.com
SUMMARY:Sunset U-Pick @ Southern Hill Farms
DESCRIPTION:Sunset U-Pick @ Southern Hill Farms\nCome out for Sunset U-Pick @ Southern Hill Farms! Enjoy extended hours for picking at our Sunset at Southern Hill Farms event! With live music by Gilly & the Girl\, food trucks\, beer and wine and Kids Zone fun\, this is one night out the whole family will enjoy. There are no admission fees to enter our seasonal u-pick events\, and pets are not permitted. \nSouthern Hill Farms\nSouthern Hills Farms is a 120-acre family-owned and operated farm includes u-pick and commercially harvested blueberries\, strawberries\, peaches and seasonal vegetables. They planted our first crop of blueberries in 2010 and currently have 40 acres of blueberry bushes\, five acres of peaches and 15 acres of strawberries. Additionally\, they also have picturesque fields of sunflowers each season and zinnias in the spring and fall. Southern Hills Farms welcome guests during our winter and spring u-pick seasons and again in the fall during our Fall Festival\, a family destination to remember. \n16651 Schofield Rd Clermont\, FL 34714 | 407-986-5806
URL:https://parkavemagazine.com/event/sunset-u-pick-southern-hill-farms/
LOCATION:Southern Hill Farms\, 16651 Schofield Rd\, Clermont\, FL\, 34714\, United States
CATEGORIES:Local,Nature
ATTACH;FMTTYPE=image/jpeg:https://parkavemagazine.com/wp-content/uploads/2023/03/331064811_1394865427954220_3473005402526691618_n.jpg
END:VEVENT
END:VCALENDAR