BEGIN:VCALENDAR
VERSION:2.0
PRODID:-//Park Ave Magazine | Winter Park Florida - ECPv6.15.17.1//NONSGML v1.0//EN
CALSCALE:GREGORIAN
METHOD:PUBLISH
X-ORIGINAL-URL:https://parkavemagazine.com
X-WR-CALDESC:Events for Park Ave Magazine | Winter Park Florida
REFRESH-INTERVAL;VALUE=DURATION:PT1H
X-Robots-Tag:noindex
X-PUBLISHED-TTL:PT1H
BEGIN:VTIMEZONE
TZID:America/New_York
BEGIN:DAYLIGHT
TZOFFSETFROM:-0500
TZOFFSETTO:-0400
TZNAME:EDT
DTSTART:20220313T070000
END:DAYLIGHT
BEGIN:STANDARD
TZOFFSETFROM:-0400
TZOFFSETTO:-0500
TZNAME:EST
DTSTART:20221106T060000
END:STANDARD
BEGIN:DAYLIGHT
TZOFFSETFROM:-0500
TZOFFSETTO:-0400
TZNAME:EDT
DTSTART:20230312T070000
END:DAYLIGHT
BEGIN:STANDARD
TZOFFSETFROM:-0400
TZOFFSETTO:-0500
TZNAME:EST
DTSTART:20231105T060000
END:STANDARD
BEGIN:DAYLIGHT
TZOFFSETFROM:-0500
TZOFFSETTO:-0400
TZNAME:EDT
DTSTART:20240310T070000
END:DAYLIGHT
BEGIN:STANDARD
TZOFFSETFROM:-0400
TZOFFSETTO:-0500
TZNAME:EST
DTSTART:20241103T060000
END:STANDARD
BEGIN:DAYLIGHT
TZOFFSETFROM:-0500
TZOFFSETTO:-0400
TZNAME:EDT
DTSTART:20250309T070000
END:DAYLIGHT
BEGIN:STANDARD
TZOFFSETFROM:-0400
TZOFFSETTO:-0500
TZNAME:EST
DTSTART:20251102T060000
END:STANDARD
END:VTIMEZONE
BEGIN:VEVENT
DTSTART;TZID=America/New_York:20240601T120000
DTEND;TZID=America/New_York:20240601T160000
DTSTAMP:20260423T181549
CREATED:20240518T014415Z
LAST-MODIFIED:20240518T014415Z
UID:104612-1717243200-1717257600@parkavemagazine.com
SUMMARY:PrideFest Kissimmee
DESCRIPTION:The block party of the year returns with food trucks\, live music\, Drag Bingo\, and more! PrideFest Kissimmee is a celebration grounded in fostering awareness and acknowledging the impactful contributions of our local LGBTQAI+ community.
URL:https://parkavemagazine.com/event/pridefest-kissimmee/
LOCATION:Kissimmee Civic Center\, 201 E Dakin Ave\,\, Kissimmee\, FL\, 34741\, United States
CATEGORIES:LGBTQ+,Local
ATTACH;FMTTYPE=image/jpeg:https://parkavemagazine.com/wp-content/uploads/2024/05/439895004_842459567919829_8138315777152395115_n.jpg
END:VEVENT
BEGIN:VEVENT
DTSTART;TZID=America/New_York:20231022T110000
DTEND;TZID=America/New_York:20231022T150000
DTSTAMP:20260423T181549
CREATED:20230825T202747Z
LAST-MODIFIED:20230825T202747Z
UID:97916-1697972400-1697986800@parkavemagazine.com
SUMMARY:Come Out With Pride Drag Brunch
DESCRIPTION:Come Out With Pride Drag Brunch\nAC Marriott Orlando Downtown and the AC Sky Bar is the official host hotel for Come Out with Pride Orlando 2023! Enjoy views of Orlando on our 18th-floor Sky Bar while enjoying the post-Come Out with Pride Drag Brunch featuring some of Orlando‘s top performers. \n$55 includes choice of one entre’ from our prix fixe brunch menu\, continental breakfast buffet including fruits\, danishes\, coffee\, juices and teas\, and unlimited mimosas or bloody marys. \n2 Seating times available: 11:00 AM & 1:30 PM\nPerformers will be released soon! \nPurchase Tickets  \nAC Hotel Orlando Downtown\nThe AC Hotel Orlando Downtown combines the soul of historic Orlando with the timeless sophistication of AC Hotels. Occupying floors 18-25 of the Truist Bank building\, this stylish hotel offers a true high-rise experience in the heart of the city. The 180-room property features modern guest rooms with a sleek European-inspired design for today’s discerning business and leisure travelers.
URL:https://parkavemagazine.com/event/come-out-with-pride-drag-brunch/
LOCATION:AC Hotel Orlando Downtown\, 333 South Garland Avenue\, Orlando\, FL\, 32801\, United States
CATEGORIES:Food,LGBTQ+,Nightlife
ATTACH;FMTTYPE=image/jpeg:https://parkavemagazine.com/wp-content/uploads/2023/08/362666241_651907423538071_524684428050186141_n.jpg
END:VEVENT
BEGIN:VEVENT
DTSTART;TZID=America/New_York:20230914T180000
DTEND;TZID=America/New_York:20230914T200000
DTSTAMP:20260423T181549
CREATED:20230826T005851Z
LAST-MODIFIED:20230826T005851Z
UID:97938-1694714400-1694721600@parkavemagazine.com
SUMMARY:September Art Show LGBT+ Center Orlando - The Center
DESCRIPTION:September Art Show LGBT+ Center Orlando – The Center\nJoin us at the LGBT Center Orlando for the opening of the September Art Show by Ky Vian. \nKy Vian is a trans\, Orlando-based artist specializing in acrylic and mixed media on canvas. His pieces feature psychedelic neon colors\, a cacophony of emotions\, abstract poetry\, and cryptic figures. \nYou are invited to meet the artist and be part of the story. \nLGBT+ Center Orlando – The Center\nOur story begins as a response to the need for safe spaces for the gay community to gather and to have accessible\, quality\, non-judgmental information and services. Every day we feel more proud of what we have built over the years. What began as a safe space to gather\, share\, support\, and grow has grown into many areas that also serve the purpose of making us visible and strengthening us as a community. \nThe Center’s team works actively for the visibility and exercise of the rights of the LGBT+ community. Our staff is highly sensitized to issues that affect the LGBT+ community and actively works for a more just and inclusive world. In this way\, The Center is a safe and non-judgmental space where people can feel free to express themselves as they are.
URL:https://parkavemagazine.com/event/september-art-show-lgbt-center-orlando-the-center/
LOCATION:The Center\, 946 N Mills Ave\, Orlando\, FL\, 32803\, United States
CATEGORIES:Art,LGBTQ+
ATTACH;FMTTYPE=image/jpeg:https://parkavemagazine.com/wp-content/uploads/2023/08/369274598_677587694414542_3556482203720270469_n.jpg
END:VEVENT
BEGIN:VEVENT
DTSTART;TZID=America/New_York:20230617T160000
DTEND;TZID=America/New_York:20230618T023000
DTSTAMP:20260423T181549
CREATED:20230526T223556Z
LAST-MODIFIED:20230526T223802Z
UID:96120-1687017600-1687055400@parkavemagazine.com
SUMMARY:6th Annual Pride Bar Crawl Orlando
DESCRIPTION:6th Annual Pride Bar Crawl Orlando\n6th Annual Pride Bar Crawl Orlando at Underground Orlando \n🏳️‍🌈🏳️‍⚧️🌈 Get Your Tickets Now‼️ -> https://www.crawlwith.us/orlando/pride#tickets\nClick ✅ GOING ✅ So You Don’t Miss The Proudest Crawl Of The Year! \n2022 Pride Crawl was a huge success and we were able to donate $22\,653 to the Trevor Project! This year\, we are donating locally. 20% of all event Proceeds will be going to Orlando Pride. \nOrlando Pride\nhttps://comeoutwithpride.org/ \nDonate\nhttps://givebutter.com/unified-by-pride\n“Our mission is to cultivate visibility\, authenticity\, and acceptance by curating inclusive experiences that celebrate and embody the spirit of queer resilience.” \nWhat You Get:\n🍻 1-2 Drink Or Shot Included With Ticket!\n💃 Free Cover To Our Drag Show! ($15 Without Ticket)\n🥤 Crawl With US Stadium Cup! (First 400 Check Ins)\n🍸 Exclusive Drink Specials\n😋 Food Specials At Partner Venues!\n🏰 Waived Cover At All Venues ($5-$15 at Some Venues Without Ticket)\n📸 Professional Photographers!\n🔥 Awesome After Party!\n🌆 Access To Our Crawl Map!\n🎟️Custom Pride Badge With Vouchers \n🎟️ VOUCHERS 🎟️\nVouchers Are Only Valid At The Venues Posted Below!\nGREEN VOUCHER = TBA\nYELLOW VOUCHER = TBA\nRED VOUCHER = TBA \n🏳️‍🌈DRAG SHOW🏳️‍🌈\nDRAG SHOW TIME TBA\nDRAG SHOW LOCATION TBA\n🏳️‍🌈 CHECK IN TIME 4PM – 6PM 🏳️‍🌈\nUNDERGROUND PUBLIC HOUSE\n🏳️‍🌈 CRAWL LOCATIONS 4PM – 10PM 🏳️‍🌈\nDAPPER DUCK BAR\nSpecials TBA\nDOWNTOWN POUR HOUSE\nSpecials TBA\nPARLAY\nSpecials TBA\nTHE OFFICE ORLANDO BAR\nSpecials TBA\nUNDERGROUND PUBLIC HOUSE\nSpecials TBA\n🏳️‍🌈 AFTER PARTY TIME 10PM – 12AM🏳️‍🌈\nCELINE \n🎟️ FREE TICKETS 🎟️\nEarn 2 Free Tickets by inviting your Facebook friends to the event.\nMessage us for details: https://www.messenger.com/t/CrawlWithUs \n🚫 DON’T DRINK AND DRIVE 🚫\nWe Highly Suggest Using Uber or Lyft To And From The Bar Crawl! \n✔️ FREQUENTLY ASKED QUESTIONS ✔️\nhttps://www.crawlwith.us/faq \n100% CANCELLATION REFUND GUARANTEE:\n👌 In the event of cancellation\, for any reason\, all tickets will be refunded in full. No vouchers\, no credits\, just your money back in your bank. Guaranteed.
URL:https://parkavemagazine.com/event/6th-annual-pride-bar-crawl-orlando/
LOCATION:Underground Orlando\, 19 S Orange Ave\, Orlando\, FL\, 32801\, United States
CATEGORIES:Festivals,Holidays,LGBTQ+
ATTACH;FMTTYPE=image/jpeg:https://parkavemagazine.com/wp-content/uploads/2023/05/348825213_1973704439631129_3278104827191180880_n.jpg
END:VEVENT
END:VCALENDAR