BEGIN:VCALENDAR
VERSION:2.0
PRODID:-//Park Ave Magazine | Winter Park Florida - ECPv6.15.17.1//NONSGML v1.0//EN
CALSCALE:GREGORIAN
METHOD:PUBLISH
X-WR-CALNAME:Park Ave Magazine | Winter Park Florida
X-ORIGINAL-URL:https://parkavemagazine.com
X-WR-CALDESC:Events for Park Ave Magazine | Winter Park Florida
REFRESH-INTERVAL;VALUE=DURATION:PT1H
X-Robots-Tag:noindex
X-PUBLISHED-TTL:PT1H
BEGIN:VTIMEZONE
TZID:America/New_York
BEGIN:DAYLIGHT
TZOFFSETFROM:-0500
TZOFFSETTO:-0400
TZNAME:EDT
DTSTART:20220313T070000
END:DAYLIGHT
BEGIN:STANDARD
TZOFFSETFROM:-0400
TZOFFSETTO:-0500
TZNAME:EST
DTSTART:20221106T060000
END:STANDARD
BEGIN:DAYLIGHT
TZOFFSETFROM:-0500
TZOFFSETTO:-0400
TZNAME:EDT
DTSTART:20230312T070000
END:DAYLIGHT
BEGIN:STANDARD
TZOFFSETFROM:-0400
TZOFFSETTO:-0500
TZNAME:EST
DTSTART:20231105T060000
END:STANDARD
BEGIN:DAYLIGHT
TZOFFSETFROM:-0500
TZOFFSETTO:-0400
TZNAME:EDT
DTSTART:20240310T070000
END:DAYLIGHT
BEGIN:STANDARD
TZOFFSETFROM:-0400
TZOFFSETTO:-0500
TZNAME:EST
DTSTART:20241103T060000
END:STANDARD
END:VTIMEZONE
BEGIN:VEVENT
DTSTART;TZID=America/New_York:20230414T080000
DTEND;TZID=America/New_York:20230414T170000
DTSTAMP:20260423T140636
CREATED:20230415T022543Z
LAST-MODIFIED:20230415T022543Z
UID:95162-1681459200-1681491600@parkavemagazine.com
SUMMARY:Vintage Bike Show @ Seminole Harley-Davidson
DESCRIPTION:Vintage Bike Show @ Seminole Harley-Davidson\nVintage Bike Show @ Seminole Harley-Davidson Free Beer\, Free Food\, Live Music\, Panhead Pantry Food Drive & MORE! \nApril 30th\, 2023 – All motorcycles\, 1998 and older welcome!\nRegistration opens at 9am\, Judging at 11 AM\, Awards at 1pm\nCategories include: Sportster\, Shovelhead\, Panhead\, Flathead\, Knucklehead\, Evo\, European\, Japanese.\nHosted By Seminole Harley-Davidson\nSponsored by Rich Newsome Law\nBar Provided By Horse Power Ranch \nSeminole Harley-Davidson\nSeminole Harley-Davidson is Central Florida‘s premiere Harley Davidson dealership\, and one of the top 3 Harley dealerships in the nation. We can customize your bike and your financing
URL:https://parkavemagazine.com/event/vintage-bike-show-seminole-harley-davidson/
LOCATION:Seminole Harley-Davidson\, 620 Hickman Cir\, Sanford\, FL\, 32771\, United States
CATEGORIES:Auto/Bikes,Local
ATTACH;FMTTYPE=image/jpeg:https://parkavemagazine.com/wp-content/uploads/2023/04/341151503_3561295740862442_7380720494285863904_n.jpg
END:VEVENT
END:VCALENDAR