BEGIN:VCALENDAR
VERSION:2.0
PRODID:-//Park Ave Magazine | Winter Park Florida - ECPv6.15.17.1//NONSGML v1.0//EN
CALSCALE:GREGORIAN
METHOD:PUBLISH
X-WR-CALNAME:Park Ave Magazine | Winter Park Florida
X-ORIGINAL-URL:https://parkavemagazine.com
X-WR-CALDESC:Events for Park Ave Magazine | Winter Park Florida
REFRESH-INTERVAL;VALUE=DURATION:PT1H
X-Robots-Tag:noindex
X-PUBLISHED-TTL:PT1H
BEGIN:VTIMEZONE
TZID:America/New_York
BEGIN:DAYLIGHT
TZOFFSETFROM:-0500
TZOFFSETTO:-0400
TZNAME:EDT
DTSTART:20220313T070000
END:DAYLIGHT
BEGIN:STANDARD
TZOFFSETFROM:-0400
TZOFFSETTO:-0500
TZNAME:EST
DTSTART:20221106T060000
END:STANDARD
BEGIN:DAYLIGHT
TZOFFSETFROM:-0500
TZOFFSETTO:-0400
TZNAME:EDT
DTSTART:20230312T070000
END:DAYLIGHT
BEGIN:STANDARD
TZOFFSETFROM:-0400
TZOFFSETTO:-0500
TZNAME:EST
DTSTART:20231105T060000
END:STANDARD
BEGIN:DAYLIGHT
TZOFFSETFROM:-0500
TZOFFSETTO:-0400
TZNAME:EDT
DTSTART:20240310T070000
END:DAYLIGHT
BEGIN:STANDARD
TZOFFSETFROM:-0400
TZOFFSETTO:-0500
TZNAME:EST
DTSTART:20241103T060000
END:STANDARD
END:VTIMEZONE
BEGIN:VEVENT
DTSTART;TZID=America/New_York:20230920T193000
DTEND;TZID=America/New_York:20230920T210000
DTSTAMP:20260423T090232
CREATED:20230904T024953Z
LAST-MODIFIED:20230904T024953Z
UID:98072-1695238200-1695243600@parkavemagazine.com
SUMMARY:The Wine Down Show @ SAK Comedy Lab
DESCRIPTION:The Wine Down Show @ SAK Comedy Lab\n\nThe Wine Down Show features our professional ensemble performing SAK’s award winning comedy improv format featuring audience suggestions and participation! Plus\, every admission comes with two included glasses of wine! Doors will open at 6:45pm for drinks and mingling. The Wine Down Show will begin at 7:30pm and end at 9pm with a 15-minute intermission. This is a 21+ event. Content will be adult oriented. \nTWO DRINKS INCLUDED IN PRICE!\nTicket Pricing ///////////////////////////////////\nGeneral Admission: $22.00 \nContent Rating /////////////////////////////////// \nR (adult language and situations) \nGet Tickets \nAbout SAK Comedy Lab\nNowhere else in Florida will you find a place like SAK Comedy Lab. Since 1991\, our professional ensemble of improv actors has entertained audiences with our unique brand of live improvised comedy. We take your suggestions and make up characters\, scenes and songs on the spot. Our comedy is fun and edgy for adults\, but also widely enjoyed by our younger fans. \nIf you like the show “Whose Line is it Anyway”\, you’ll like our show. In fact\, SAK was a starting place for the careers of Wayne Brady as well as writers\, actors and producers for “Mad TV”\, “Saturday Night Live”\, and sitcoms such as “Scrubs”\, “The Office” and “30 Rock”. Check out our beautiful 250-seat venue\, grab beer or wine from our concession lobby\, and see the next generation of national comedic talent.
URL:https://parkavemagazine.com/event/the-wine-down-show-sak-comedy-lab-9-20-23/
LOCATION:SAK Comedy Lab\, 29 S. Orange Ave.\, Orlando\, FL\, 32801\, United States
CATEGORIES:Comedy,Nightlife
ATTACH;FMTTYPE=image/jpeg:https://parkavemagazine.com/wp-content/uploads/2023/09/242141523_10159331927560395_3527788318386488965_n.jpg
END:VEVENT
END:VCALENDAR