BEGIN:VCALENDAR
VERSION:2.0
PRODID:-//Park Ave Magazine | Winter Park Florida - ECPv6.15.17.1//NONSGML v1.0//EN
CALSCALE:GREGORIAN
METHOD:PUBLISH
X-WR-CALNAME:Park Ave Magazine | Winter Park Florida
X-ORIGINAL-URL:https://parkavemagazine.com
X-WR-CALDESC:Events for Park Ave Magazine | Winter Park Florida
REFRESH-INTERVAL;VALUE=DURATION:PT1H
X-Robots-Tag:noindex
X-PUBLISHED-TTL:PT1H
BEGIN:VTIMEZONE
TZID:America/New_York
BEGIN:DAYLIGHT
TZOFFSETFROM:-0500
TZOFFSETTO:-0400
TZNAME:EDT
DTSTART:20220313T070000
END:DAYLIGHT
BEGIN:STANDARD
TZOFFSETFROM:-0400
TZOFFSETTO:-0500
TZNAME:EST
DTSTART:20221106T060000
END:STANDARD
BEGIN:DAYLIGHT
TZOFFSETFROM:-0500
TZOFFSETTO:-0400
TZNAME:EDT
DTSTART:20230312T070000
END:DAYLIGHT
BEGIN:STANDARD
TZOFFSETFROM:-0400
TZOFFSETTO:-0500
TZNAME:EST
DTSTART:20231105T060000
END:STANDARD
BEGIN:DAYLIGHT
TZOFFSETFROM:-0500
TZOFFSETTO:-0400
TZNAME:EDT
DTSTART:20240310T070000
END:DAYLIGHT
BEGIN:STANDARD
TZOFFSETFROM:-0400
TZOFFSETTO:-0500
TZNAME:EST
DTSTART:20241103T060000
END:STANDARD
END:VTIMEZONE
BEGIN:VEVENT
DTSTART;TZID=America/New_York:20230918T080000
DTEND;TZID=America/New_York:20230918T130000
DTSTAMP:20260423T090229
CREATED:20230610T055048Z
LAST-MODIFIED:20230610T055252Z
UID:96421-1695024000-1695042000@parkavemagazine.com
SUMMARY:UNCF Run/Walk for Education & Community Festival
DESCRIPTION:UNCF Run/Walk for Education & Community Festival\nLooking for an event that’s not only fun but also supports a great cause? Look no further than the UNCF Walk for Education and Community Festival! This event is designed to be a great day out for the whole family\, while also raising funds to support scholarships for underprivileged students. \nThe community festival features live entertainment\, including music from local talent and a DJ\, as well as plenty of activities for kids such as games and face painting. And let’s not forget the small business vendors who will be on hand offering tasty treats and unique handcrafted items to enjoy. \nBut the real highlight of the event is the chance to make a difference in the lives of underprivileged students and their dream of a higher education. By participating in the walk\, you’ll be helping to raise funds that will directly support students who may not have had the same educational opportunities as others. By joining in the fun\, you’ll be helping to ensure that all students have the chance to achieve their full potential and pursue their dreams. \nSo don’t miss out on this fantastic event! Come out to the UNCF Walk for Education and Community Festival and have a great day out while making a meaningful impact on the lives of students in need. \nUNCF\nUNCF‘s 23 local offices help students\, alumni and supporters connect with resources\, events and initiatives in their communities.
URL:https://parkavemagazine.com/event/uncf-run-walk-for-education-community-festival/
LOCATION:Blue Jacket Park\, 2501 General Reese Ave\, Winter Park\, FL\, 32789\, United States
CATEGORIES:Causes
ATTACH;FMTTYPE=image/jpeg:https://parkavemagazine.com/wp-content/uploads/2023/06/342999090_137600379173011_1819381277310302822_n-1-e1686376357631.jpg
END:VEVENT
END:VCALENDAR