BEGIN:VCALENDAR
VERSION:2.0
PRODID:-//Park Ave Magazine | Winter Park Florida - ECPv6.15.17.1//NONSGML v1.0//EN
CALSCALE:GREGORIAN
METHOD:PUBLISH
X-ORIGINAL-URL:https://parkavemagazine.com
X-WR-CALDESC:Events for Park Ave Magazine | Winter Park Florida
REFRESH-INTERVAL;VALUE=DURATION:PT1H
X-Robots-Tag:noindex
X-PUBLISHED-TTL:PT1H
BEGIN:VTIMEZONE
TZID:America/New_York
BEGIN:DAYLIGHT
TZOFFSETFROM:-0500
TZOFFSETTO:-0400
TZNAME:EDT
DTSTART:20220313T070000
END:DAYLIGHT
BEGIN:STANDARD
TZOFFSETFROM:-0400
TZOFFSETTO:-0500
TZNAME:EST
DTSTART:20221106T060000
END:STANDARD
BEGIN:DAYLIGHT
TZOFFSETFROM:-0500
TZOFFSETTO:-0400
TZNAME:EDT
DTSTART:20230312T070000
END:DAYLIGHT
BEGIN:STANDARD
TZOFFSETFROM:-0400
TZOFFSETTO:-0500
TZNAME:EST
DTSTART:20231105T060000
END:STANDARD
BEGIN:DAYLIGHT
TZOFFSETFROM:-0500
TZOFFSETTO:-0400
TZNAME:EDT
DTSTART:20240310T070000
END:DAYLIGHT
BEGIN:STANDARD
TZOFFSETFROM:-0400
TZOFFSETTO:-0500
TZNAME:EST
DTSTART:20241103T060000
END:STANDARD
END:VTIMEZONE
BEGIN:VEVENT
DTSTART;VALUE=DATE:20230901
DTEND;VALUE=DATE:20230903
DTSTAMP:20260423T092338
CREATED:20230825T194122Z
LAST-MODIFIED:20230825T194122Z
UID:97902-1693526400-1693699199@parkavemagazine.com
SUMMARY:Woman's Club of Winter Park Rummage Sale
DESCRIPTION:Woman’s Club of Winter Park Rummage Sale\nVisit the Woman’s Club of Winter Park Rummage Sale. The Woman’s Club of Winter Park’s annual Rummage Sale will be held Friday\, Sept. 1\, 9-4 and Saturday\, Sept 2\, 9-2. Our entire historic Clubhouse will be full of merchandise with bargains galore. Proceeds benefit charitable giving. Free onsite parking available. Donations gratefully accepted Sunday\, 8/27 through Tuesday\, 8/29\, 9-3. Shoppers treasured! \nWoman’s Club of Winter Park\nFounded in 1915\, the Woman’s Club of Winter Park is one of the oldest not-for-profit community organizations in Winter Park\, Florida. \nOur Club’s Mission\n\nTo associate its members and the public in charitable and educational efforts for the citizens of Winter Park and surrounding areas\nTo aid worthy students entering or attending institutions of higher learning\nTo preserve the history and premises of the Woman’s Club of Winter Park\, Inc\, for future generations of the members and the community\n\nVision We envision the WCWP as a pillar of Winter Park\, with our beautifully restored historic clubhouse serving as a center for women to lead and participate in good works that enrich our community. We conduct exciting\, successful programs that contribute to the community and enhance our sense of teamwork. Our success and camaraderie draw active new members who bring diversity and freshness to the organization. We operate efficiently with rich\, full\, effective committees and broad participation. \nBoard of Directors The Board of Directors is ultimately responsible for the financial management of all activities of The Woman’s Club. It meets the first Wednesday of every month at 9:30 am. Board members\, including President\, President-Elect\, Vice President\, Secretary\, and Treasurer\, are elected to two-year terms.
URL:https://parkavemagazine.com/event/womans-club-of-winter-park-rummage-sale/
LOCATION:University Club of Winter Park\, 841 North Park Avenue\, Winter Park\, FL\, 32789\, United States
CATEGORIES:Causes,Local,Women
ATTACH;FMTTYPE=image/png:https://parkavemagazine.com/wp-content/uploads/2023/08/FB-sized-Rummage-Sale-Poster-with-QR-Code-1200-630-px-002.png
ORGANIZER;CN="Woman's Club of Winter Park":MAILTO:info@womansclubofwinterpark.com
END:VEVENT
BEGIN:VEVENT
DTSTART;TZID=America/New_York:20230901T103000
DTEND;TZID=America/New_York:20230901T120000
DTSTAMP:20260423T092338
CREATED:20230826T012249Z
LAST-MODIFIED:20230826T012249Z
UID:97941-1693564200-1693569600@parkavemagazine.com
SUMMARY:Art Adventures: Where the Wild Things Are!
DESCRIPTION:Art Adventures: Where the Wild Things Are!\nCome on an adventure at Orlando Museum of Art! Join us for a workshop that features a hands-on art activity in the studio followed by a visit to the gallery. Explore materials and techniques in a stimulating and inviting environment that fosters engagement and creativity for young children and their favorite grownup! Ideal for children ages 2-10. \nFriday\, September 1: Where The Wild Things Are!\nCome get wild at OMA! Join us in the galleries where we’ll explore the wild art of Magnus Sodamin while also reading Maurice Sendak’s popular book\, Where the Wild Things Are. In the studio\, create wild works of art using wild colors and materials! \nSingle Workshop Price\nOne Adult and One Child\, Members: $18.00\nOne Adult and One Child\, Future Members: $20.00\nAdditional Adults: $10.00 (additional adults who are Museum Members are free)\nAdditional Child: $10.00 \nREGISTER FOR ALL FOUR WORKSHOPS AT A DISCOUNTED RATE!\nOne Adult and One Child\, Members: $65.00\nOne Adult and One Child\, Future Members: $72.00 \nOrlando Museum of Art\nInspiring creativity\, passion and intellectual curiosity by connecting people with art and new ideas. Founded in 1924\, and incorporated as a 501(c)(3) institution\, the Orlando Museum of Art is Orlando’s flagship museum and a leading provider of visual art education and experiences in a four-county region. Accredited by the American Alliance of Museums (AAM) in 1971\, the Orlando Museum of Art (OM°A) is a regional asset and a catalyst for life-long learning in service to the central Florida community and visitors from around the globe.
URL:https://parkavemagazine.com/event/art-adventures-where-the-wild-things-are/
LOCATION:Orlando Museum of Art\, 2416 Mills Ave N\, Orlando\, FL\, 32803\, United States
ATTACH;FMTTYPE=image/jpeg:https://parkavemagazine.com/wp-content/uploads/2023/08/369332426_673647674788344_8404840853920194188_n.jpg
END:VEVENT
END:VCALENDAR