BEGIN:VCALENDAR
VERSION:2.0
PRODID:-//Park Ave Magazine | Winter Park Florida - ECPv6.15.17.1//NONSGML v1.0//EN
CALSCALE:GREGORIAN
METHOD:PUBLISH
X-ORIGINAL-URL:https://parkavemagazine.com
X-WR-CALDESC:Events for Park Ave Magazine | Winter Park Florida
REFRESH-INTERVAL;VALUE=DURATION:PT1H
X-Robots-Tag:noindex
X-PUBLISHED-TTL:PT1H
BEGIN:VTIMEZONE
TZID:America/New_York
BEGIN:DAYLIGHT
TZOFFSETFROM:-0500
TZOFFSETTO:-0400
TZNAME:EDT
DTSTART:20220313T070000
END:DAYLIGHT
BEGIN:STANDARD
TZOFFSETFROM:-0400
TZOFFSETTO:-0500
TZNAME:EST
DTSTART:20221106T060000
END:STANDARD
BEGIN:DAYLIGHT
TZOFFSETFROM:-0500
TZOFFSETTO:-0400
TZNAME:EDT
DTSTART:20230312T070000
END:DAYLIGHT
BEGIN:STANDARD
TZOFFSETFROM:-0400
TZOFFSETTO:-0500
TZNAME:EST
DTSTART:20231105T060000
END:STANDARD
BEGIN:DAYLIGHT
TZOFFSETFROM:-0500
TZOFFSETTO:-0400
TZNAME:EDT
DTSTART:20240310T070000
END:DAYLIGHT
BEGIN:STANDARD
TZOFFSETFROM:-0400
TZOFFSETTO:-0500
TZNAME:EST
DTSTART:20241103T060000
END:STANDARD
END:VTIMEZONE
BEGIN:VEVENT
DTSTART;VALUE=DATE:20230826
DTEND;VALUE=DATE:20230828
DTSTAMP:20260423T123503
CREATED:20230825T192516Z
LAST-MODIFIED:20230825T192516Z
UID:97893-1693008000-1693180799@parkavemagazine.com
SUMMARY:End of Summer Party @ Boxi Park Lake Nona
DESCRIPTION:End of Summer Party @ Boxi Park Lake Nona\nEnd of Summer Party @ Boxi Park Lake Nona! Celebrate the end of summer at Boxi Park all weekend! Live music with Blonde Ambition Saturday Night & Reggae Day all day Sunday! \nFull Entertainment Lineup\nSaturday\, August 26th\nLUVU | 1 – 4 PM\nDJ J. Taylor | 6 PM – 12 AM\nBlonde Ambition Band | 7 – 11 PM \nReggae Day | Sunday\, August 27th\nDJ RED i | 12 – 8 PM\nKing Tappa | 1 – 2:30 PM\nNostalJah | 3 – 4:30 PM\nShamanic Rootz | 5 – 7 PM\nInner Circle | 8 – 9:30 PM \nBoxi Park Lake Nona\nDesigned with the community in mind and constructed entirely out of repurposed shipping containers\, Boxi Park is the Central Florida hub for food\, fun\, friendship\, and relaxation. \nLocated in Lake Nona’s Town Center\, Boxi Park is a free outdoor gathering spot with shady green spaces perfect for chatting\, playing\, sipping\, eating\, and tapping feet to the sounds of live music. \nLake Nona Town Center\nLake Nona Town Center is the hub of Lake Nona. As a regional shopping and entertainment destination\, Lake Nona Town Center has a distinct pulse where residents and visitors gather to enjoy life. The Town Center features restaurants\, boutiques\, hotels\, public art and event venues to inspire and delight.
URL:https://parkavemagazine.com/event/end-of-summer-party-boxi-park-lake-nona/
LOCATION:Boxi Park Lake Nona\, 6877 Tavistock Lakes Blvd\, Orlando\, FL\, 32827\, United States
ATTACH;FMTTYPE=image/jpeg:https://parkavemagazine.com/wp-content/uploads/2023/08/362291982_666194398866899_2557695629959458524_n.jpg
END:VEVENT
BEGIN:VEVENT
DTSTART;TZID=America/New_York:20230827T140000
DTEND;TZID=America/New_York:20230827T170000
DTSTAMP:20260423T123503
CREATED:20230805T014723Z
LAST-MODIFIED:20230805T014723Z
UID:97469-1693144800-1693155600@parkavemagazine.com
SUMMARY:A Siren’s Song feat. Soprano Shannon Jennings | Pianist Ammon Perry Bratt
DESCRIPTION:A Siren’s Song feat. Soprano Shannon Jennings | Pianist Ammon Perry Bratt\nA Siren’s Song\nSunday | August 27\, 2023 at 2 p.m.\nsoprano Shannon Jennings | pianist Ammon Perry Bratt\nhttps://www.shannonjennings.com/ \nCentral Florida-native soprano Shannon Jennings will present a spectacular program as a preview to her singing the title role of Rusalka later in the 2023-24 season. Her program\, titled A Siren’s Song\, features selections from Romantic and Impressionist composers such as Dvorák\, Debussy\, and Liszt\, as well as opera favorites from Lehar’s The Merry Widow and Florencia en el Amazones. Ms. Jennings will be accompanied by local pianist and Summer Concert veteran Ammon Perry Bratt\, who has toured internationally throughout the United States\, Europe\, Asia\, South Africa\, and New Zealand. \nPurchase Tickets \nAbout The Summer Concert Series \nAll Summer Concert Series performances begin at 2 p.m. and take place at the University Club of Winter Park\, located at 841 North Park Avenue\, Winter Park\, Florida 32789. Subscriptions for all three concerts are on sale for NOW for $125 per person\, and limited seats for individual concerts are available starting July 7 for $49 a ticket. Admission includes an artist reception following each performance\, with wine graciously donated by Winter Park Wine. \nAdditionally\, Opera Orlando’s 2023-24 Opera on the MainStage subscriptions are also currently on sale through the Dr. Phillips Center’s Bill & Mary Darden Box Office\, (445 S. Magnolia Avenue\, Orlando)\, online at www.DrPhillipsCenter.org\, or by calling (407) 839-0119\, ext. 0. \nSee YOU at the Opera!
URL:https://parkavemagazine.com/event/a-sirens-song-feat-soprano-shannon-jennings-pianist-ammon-perry-bratt/
LOCATION:University Club of Winter Park\, 841 North Park Avenue\, Winter Park\, FL\, 32789\, United States
CATEGORIES:Local,Theater
ATTACH;FMTTYPE=image/jpeg:https://parkavemagazine.com/wp-content/uploads/2023/08/OIC-SCS2023_headshot-composite-1200X630-2.jpg
ORGANIZER;CN="Opera Orlando":MAILTO:info@operaorlando.org
END:VEVENT
END:VCALENDAR