BEGIN:VCALENDAR
VERSION:2.0
PRODID:-//Park Ave Magazine | Winter Park Florida - ECPv6.15.17.1//NONSGML v1.0//EN
CALSCALE:GREGORIAN
METHOD:PUBLISH
X-ORIGINAL-URL:https://parkavemagazine.com
X-WR-CALDESC:Events for Park Ave Magazine | Winter Park Florida
REFRESH-INTERVAL;VALUE=DURATION:PT1H
X-Robots-Tag:noindex
X-PUBLISHED-TTL:PT1H
BEGIN:VTIMEZONE
TZID:America/New_York
BEGIN:DAYLIGHT
TZOFFSETFROM:-0500
TZOFFSETTO:-0400
TZNAME:EDT
DTSTART:20220313T070000
END:DAYLIGHT
BEGIN:STANDARD
TZOFFSETFROM:-0400
TZOFFSETTO:-0500
TZNAME:EST
DTSTART:20221106T060000
END:STANDARD
BEGIN:DAYLIGHT
TZOFFSETFROM:-0500
TZOFFSETTO:-0400
TZNAME:EDT
DTSTART:20230312T070000
END:DAYLIGHT
BEGIN:STANDARD
TZOFFSETFROM:-0400
TZOFFSETTO:-0500
TZNAME:EST
DTSTART:20231105T060000
END:STANDARD
BEGIN:DAYLIGHT
TZOFFSETFROM:-0500
TZOFFSETTO:-0400
TZNAME:EDT
DTSTART:20240310T070000
END:DAYLIGHT
BEGIN:STANDARD
TZOFFSETFROM:-0400
TZOFFSETTO:-0500
TZNAME:EST
DTSTART:20241103T060000
END:STANDARD
END:VTIMEZONE
BEGIN:VEVENT
DTSTART;TZID=America/New_York:20230820T140000
DTEND;TZID=America/New_York:20230820T170000
DTSTAMP:20260423T074047
CREATED:20230805T012207Z
LAST-MODIFIED:20230805T012207Z
UID:97465-1692540000-1692550800@parkavemagazine.com
SUMMARY:L’arte Nel Suo Mistero Feat. Tenor Isaac Hurtado | pianist Robin Stamper
DESCRIPTION:L’arte Nel Suo Mistero Feat. Tenor Isaac Hurtado | pianist Robin Stamper\nL’arte Nel Suo Mistero\nSunday | August 20\, 2023 at 2 p.m.\nTenor Isaac Hurtado | pianist Robin Stamper\nhttps://www.isaachurtadotenor.com/ \nTenor Isaac Hurtado has drawn critical acclaim for performances of leading roles across the United States. His program\, titled L’arte nel suo mistero (Art in its Mystery)\, will feature selections from operas by Puccini and Verdi\, along with well-known Neapolitan songs that will have the audience singing along. Audiences will see Mr. Hurtado again as the Prince in the upcoming Opera on the Town\, site-specific production of Dvorák’s Rusalka. \nBoth this concert and Ms. Breckenridge’s concert will be accompanied by Robin Stamper\, artistic/managing director and chorus master of Opera Tampa. \nPurchase Tickets \nIndividual tickets for Opera Orlando’s annual Summer Concert Series go on sale July 7\, 2023 for all three concerts. Tickets start at $49 per person and seating is limited\, so get tickets now for this spectacular series featuring world-class singers at the University Club of Winter Park. These three concerts showcase an eclectic range of repertoire from each musician\, including songs\, arias and duets\, followed by a meet-and-greet reception with the artists\, including wine and light hors d’oeuvres. \nAbout The Summer Concert Series\nAll Summer Concert Series performances begin at 2 p.m. and take place at the University Club of Winter Park\, located at 841 North Park Avenue\, Winter Park\, Florida 32789. Subscriptions for all three concerts are on sale for NOW for $125 per person\, and limited seats for individual concerts are available starting July 7 for $49 a ticket. Admission includes an artist reception following each performance\, with wine graciously donated by Winter Park Wine. \nAdditionally\, Opera Orlando’s 2023-24 Opera on the MainStage subscriptions are also currently on sale through the Dr. Phillips Center’s Bill & Mary Darden Box Office\, (445 S. Magnolia Avenue\, Orlando)\, online at www.DrPhillipsCenter.org\, or by calling (407) 839-0119\, ext. 0.
URL:https://parkavemagazine.com/event/larte-nel-suo-mistero-feat-tenor-isaac-hurtado-pianist-robin-stamper/
LOCATION:University Club of Winter Park\, 841 North Park Avenue\, Winter Park\, FL\, 32789\, United States
CATEGORIES:Local,Theater
ATTACH;FMTTYPE=image/jpeg:https://parkavemagazine.com/wp-content/uploads/2023/08/OIC-SCS2023_headshot-composite-1200X630-1.jpg
ORGANIZER;CN="Opera Orlando":MAILTO:info@operaorlando.org
END:VEVENT
END:VCALENDAR