BEGIN:VCALENDAR
VERSION:2.0
PRODID:-//Park Ave Magazine | Winter Park Florida - ECPv6.15.17.1//NONSGML v1.0//EN
CALSCALE:GREGORIAN
METHOD:PUBLISH
X-WR-CALNAME:Park Ave Magazine | Winter Park Florida
X-ORIGINAL-URL:https://parkavemagazine.com
X-WR-CALDESC:Events for Park Ave Magazine | Winter Park Florida
REFRESH-INTERVAL;VALUE=DURATION:PT1H
X-Robots-Tag:noindex
X-PUBLISHED-TTL:PT1H
BEGIN:VTIMEZONE
TZID:America/New_York
BEGIN:DAYLIGHT
TZOFFSETFROM:-0500
TZOFFSETTO:-0400
TZNAME:EDT
DTSTART:20220313T070000
END:DAYLIGHT
BEGIN:STANDARD
TZOFFSETFROM:-0400
TZOFFSETTO:-0500
TZNAME:EST
DTSTART:20221106T060000
END:STANDARD
BEGIN:DAYLIGHT
TZOFFSETFROM:-0500
TZOFFSETTO:-0400
TZNAME:EDT
DTSTART:20230312T070000
END:DAYLIGHT
BEGIN:STANDARD
TZOFFSETFROM:-0400
TZOFFSETTO:-0500
TZNAME:EST
DTSTART:20231105T060000
END:STANDARD
BEGIN:DAYLIGHT
TZOFFSETFROM:-0500
TZOFFSETTO:-0400
TZNAME:EDT
DTSTART:20240310T070000
END:DAYLIGHT
BEGIN:STANDARD
TZOFFSETFROM:-0400
TZOFFSETTO:-0500
TZNAME:EST
DTSTART:20241103T060000
END:STANDARD
END:VTIMEZONE
BEGIN:VEVENT
DTSTART;TZID=America/New_York:20230813T080000
DTEND;TZID=America/New_York:20230813T170000
DTSTAMP:20260423T110607
CREATED:20230805T002539Z
LAST-MODIFIED:20230805T002539Z
UID:97452-1691913600-1691946000@parkavemagazine.com
SUMMARY:Improv for Anxiety Workshop @ SAK Comedy Lab
DESCRIPTION:Improv for Anxiety @ SAK Comedy Lab\n\nImprov For Anxiety is a wellness-based class from SAK to help people who suffer from anxiety learn to live richer\, fuller\, and more meaningful lives. Whether it’s social anxiety\, stage fright\, or general anxiety\, improvisation creates an ideal experiential learning environment to practice dealing with your anxiety in a totally different way. Through basic improv exercises\, participants will learn to use the tools of acceptance\, non-judgment\, and present-moment awareness. This is to address the thoughts and feelings that can get in the way of living fully. This class examines how the stories we tell ourselves often create unnecessary suffering\, and explores what we can do to bring healing to this area. \nA Wellness Based Workshop for the Novice Improviser\nPrice: $65.00 | Instructor: Chris Dinger\nThis is the 3-hour introductory workshop for the “Improv for Anxiety” program at SAK. In this workshop\, you’ll get key takeaways and explore concepts through a few fun exercises. If you would like to take the full six-week program that includes this workshop\, direct your browser to www.sak.com/anxietyclass. \nImprov For Anxiety is a wellness-based workshop from SAK to help people who suffer from anxiety learn to live richer\, fuller\, and more meaningful lives. Whether it’s social anxiety\, stage fright\, or general anxiety\, improvisation creates an ideal experiential learning environment to practice dealing with your feelings in a totally different way. Through basic improv exercises\, participants will learn to use the tools of acceptance\, non-judgement\, and present moment awareness to address the thoughts and feelings that can get in the way of living fully. This class examines how the stories we tell ourselves often create unnecessary suffering. Additionally\, it explores what we can do to bring healing to this area. \nChris Dinger\, creator and intructor of this workshop is a professional performer and Executive Director of SAK. Chris is not a therapist\, nor is this workshop meant to replace therapy. This workshop is an exploration of the process that helped lift Chris from a life bogged down with persistent anxiety to a life where he can feel a variety of emotions without getting trapped by them (most of the time). Stop fighting with your anxiety and learn a new way to approach the world. Let us help you begin that journey! \nImpov for Anxiety (Workshop Only) | Sunday\, Aug 13th 2023 | 12:30pm – Register Now\nImprov for Anxiety (Six Week Program) | Sundays from 12:30pm — 2:30pm | Aug 13 – Sep 24\, 2023 – Register Now
URL:https://parkavemagazine.com/event/improv-for-anxiety-workshop-sak-comedy-lab/
LOCATION:SAK Comedy Lab\, 29 S. Orange Ave.\, Orlando\, FL\, 32801\, United States
CATEGORIES:Classes,Comedy,Local
ATTACH;FMTTYPE=image/jpeg:https://parkavemagazine.com/wp-content/uploads/2023/08/Improv_For-Anxiety.jpg
END:VEVENT
BEGIN:VEVENT
DTSTART;TZID=America/New_York:20230813T130000
DTEND;TZID=America/New_York:20230813T170000
DTSTAMP:20260423T110607
CREATED:20230728T224607Z
LAST-MODIFIED:20230728T224607Z
UID:97244-1691931600-1691946000@parkavemagazine.com
SUMMARY:Bonsai and Brews at Ivanhoe Brewing
DESCRIPTION:Bonsai and Brews at Ivanhoe Brewing\nBonsai and Brews at Ivanhoe Brewing is doing its second event at Ivanhoe Brewery! We cannot wait to see you! \nExperience the perfect blend of nature and craft beer as L&J Nursery brings you “Bonsai’s and Brew” at Ivanhoe Park Brewery! Join us on August 13 for an extraordinary event that combines the art of bonsai with the exceptional flavors of locally brewed beer. \nPrepare to be enchanted as our expert bonsai master\, Jonathan takes center stage at Ivanhoe Park Brewery. In this exclusive event\, limited to just 15 participants per class\, Jonathan will guide you through a captivating one-and-a-half-hour bonsai lesson. From the basics to the intricate techniques\, you’ll learn how to create your very own stunning bonsai tree. \nBut the excitement doesn’t stop there! As you delve into the artistry of bonsai\, you’ll also be treated to a delightful selection of two beers from Ivanhoe Park Brewery. Savor the rich flavors and aromas of their handcrafted brews\, expertly paired to enhance your bonsai experience. \nThis intimate gathering offers a personalized touch\, ensuring that you receive individual attention and have the opportunity to connect with like-minded enthusiasts. Immerse yourself in the serene atmosphere of Ivanhoe Park Brewery as you mingle\, share stories\, and revel in the joy of bonsai. \nDon’t miss out on this exclusive event! Grab your spot now before it sells out. Be prepared to unleash your creativity\, enjoy exceptional brews\, and take home your very own bonsai tree—a lasting memento of this unforgettable experience at Ivanhoe Park Brewery with L&J Nursery. \nPurchase Tickets \nIvanhoe Park Brewing Company\nIvanhoe Park Brewing Company is an independent craft brewery and tasting room located in the historic Ivanhoe District of Orlando\, Florida\, Ivanhoe Park Brewing Company celebrates the spirit and pioneering ways of early 20th century Lake Ivanhoe founder George I. Russell. Later named Joyland\, an amusement and recreational park located on the shores of Lake Ivanhoe\, Ivanhoe Park previously served as home to beautifully lined orange groves and a pineapple farm. Connecting Orlando‘s historic past to our brewery’s commitment to community\, education and the use of quality ingredients\, Ivanhoe Park Brewing Company seeks to make craft beer accessible to everyone.
URL:https://parkavemagazine.com/event/bonsai-and-brews-at-ivanhoe-brewing/
LOCATION:Ivanhoe Park Brewing Company\, 1300 Alden Road\, Orlando\, FL\, 32803\, United States
CATEGORIES:Food,Local,Nature
ATTACH;FMTTYPE=image/jpeg:https://parkavemagazine.com/wp-content/uploads/2023/07/362208304_324240056596118_2430233196746878643_n-scaled-e1690584016279.jpg
END:VEVENT
BEGIN:VEVENT
DTSTART;TZID=America/New_York:20230813T140000
DTEND;TZID=America/New_York:20230813T163000
DTSTAMP:20260423T110607
CREATED:20230722T015653Z
LAST-MODIFIED:20230722T015653Z
UID:97049-1691935200-1691944200@parkavemagazine.com
SUMMARY:Soprano Marnie Breckenridge Headlines Opera Orlando's Summer Concert Series Opener on Aug. 13
DESCRIPTION:Soprano Marnie Breckenridge Headlines Opera Orlando’s Summer Concert Series Opener on Aug. 13\nSoprano Marnie Breckenridge headlines Opera Orlando’s annual Summer Concert Series on August 13 at the University Club of Winter Park. Ms. Breckenridge and pianist Robin Stamper will present Art Is Calling for Me\, a concert of classical arias and popular tunes sure to enchant Opera fans and summer concertgoers. Also for this concert only\, audiences will be treated to an exclusive 2023-24 All for Art season presentation by the Company’s general director Gabriel Preisser and artistic director Grant Preisser. \nMarnie Breckenridge\nRobin Stamper\, conductor and pianist\, is currently the artistic director and chorus master for Opera Tampa. His credits include director of music for the Kentucky Opera where he made his conducting debut with The Mikado. Subsequently\, he was artistic director for the Nevada Opera\, where he conducted mainstage productions of The Marriage of Figaro\, The Barber of Seville\, Lucia di Lammermoor\, and Rigoletto. Mr. Stamper has also served as music director for the previous Orlando Opera Company and Orlando Opera Chorus. He also served as artistic director for Florida Opera Theatre prior to its re-birth as Opera Orlando. \nAll Summer Concert Series performances take place at the University Club of Winter Park\, located at 841 North Park Avenue\, Winter Park\, Florida 32789. Subscribe to the full Summer Concert Series line-up for $125 or pay $49 for each individual concert. Admission includes meet-the-artist receptions following each concert\, with light hors d’oeuvres and wine graciously donated by Winter Park Wine. \nAdditionally\, Opera Orlando’s 2023-24 Opera on the MainStage subscriptions are also currently on sale through the Dr. Phillips Center’s Bill & Mary Darden Box Office\, (445 S. Magnolia Avenue\, Orlando)\, online at www.DrPhillipsCenter.org\, or by calling (407) 839-0119\, ext. 0. \nTickets\nIndividual tickets for each concert are $49  Subscribe to all three concerts for $125 and save $22 https://bit.ly/OICSCS23
URL:https://parkavemagazine.com/event/soprano-marnie-breckenridge-headlines-opera-orlandos-summer-concert-series-opener-on-aug-13/
LOCATION:University Club of Winter Park\, 841 North Park Avenue\, Winter Park\, FL\, 32789\, United States
ATTACH;FMTTYPE=image/jpeg:https://parkavemagazine.com/wp-content/uploads/2023/07/Candide4.jpg
ORGANIZER;CN="Opera Orlando":MAILTO:info@operaorlando.org
END:VEVENT
BEGIN:VEVENT
DTSTART;TZID=America/New_York:20230813T140000
DTEND;TZID=America/New_York:20230813T170000
DTSTAMP:20260423T110607
CREATED:20230805T005520Z
LAST-MODIFIED:20230805T011913Z
UID:97462-1691935200-1691946000@parkavemagazine.com
SUMMARY:Art Is Calling For Me Feat. Soprano Marnie Breckenridge | pianist Robin Stamper
DESCRIPTION:Art Is Calling For Me Soprano Marnie Breckenridge | pianist Robin Stamper\nArt Is Calling For Me\nSunday | August 13\, 2023 at 2 p.m.\nSoprano Marnie Breckenridge | pianist Robin Stamper\nhttps://marniebreckenridge.com/ \nSoprano Marnie Breckenridge is recognized for her sparkling soprano\, intelligent musicianship\, and deeply poignant character portrayals on stage. Ms. Breckenridge will sing an eclectic program entitled Art Is Calling Me\, featuring arias from Gounod’s Romeo et Juliette\, and a special preview of her spring appearance in the title role of Opera Orlando’s production of Lucia di Lammermoor. Ms. Breckenridge will also perform a selection of tunes from the classic American songbook\, including “I Love Paris” and “Night and Day” by Cole Porter and a Gershwin medley. \nPurchase Tickets \nIndividual tickets for Opera Orlando’s annual Summer Concert Series go on sale July 7\, 2023 for all three concerts. Tickets start at $49 per person and seating is limited\, so get tickets now for this spectacular series featuring world-class singers at the University Club of Winter Park. These three concerts showcase an eclectic range of repertoire from each musician\, including songs\, arias and duets\, followed by a meet-and-greet reception with the artists\, including wine and light hors d’oeuvres. \nAbout The Summer Concert Series\nAll Summer Concert Series performances begin at 2 p.m. and take place at the University Club of Winter Park\, located at 841 North Park Avenue\, Winter Park\, Florida 32789. Subscriptions for all three concerts are on sale for NOW for $125 per person\, and limited seats for individual concerts are available starting July 7 for $49 a ticket. Admission includes an artist reception following each performance\, with wine graciously donated by Winter Park Wine. \nAdditionally\, Opera Orlando’s 2023-24 Opera on the MainStage subscriptions are also currently on sale through the Dr. Phillips Center’s Bill & Mary Darden Box Office\, (445 S. Magnolia Avenue\, Orlando)\, online at www.DrPhillipsCenter.org\, or by calling (407) 839-0119\, ext. 0.
URL:https://parkavemagazine.com/event/art-is-calling-for-me-opera-orlando/
LOCATION:University Club of Winter Park\, 841 North Park Avenue\, Winter Park\, FL\, 32789\, United States
CATEGORIES:Local,Theater
ATTACH;FMTTYPE=image/jpeg:https://parkavemagazine.com/wp-content/uploads/2023/08/OIC-SCS2023_headshot-composite-1200X630-1.jpg
ORGANIZER;CN="Opera Orlando":MAILTO:info@operaorlando.org
END:VEVENT
END:VCALENDAR