BEGIN:VCALENDAR
VERSION:2.0
PRODID:-//Park Ave Magazine | Winter Park Florida - ECPv6.15.17.1//NONSGML v1.0//EN
CALSCALE:GREGORIAN
METHOD:PUBLISH
X-ORIGINAL-URL:https://parkavemagazine.com
X-WR-CALDESC:Events for Park Ave Magazine | Winter Park Florida
REFRESH-INTERVAL;VALUE=DURATION:PT1H
X-Robots-Tag:noindex
X-PUBLISHED-TTL:PT1H
BEGIN:VTIMEZONE
TZID:America/New_York
BEGIN:DAYLIGHT
TZOFFSETFROM:-0500
TZOFFSETTO:-0400
TZNAME:EDT
DTSTART:20220313T070000
END:DAYLIGHT
BEGIN:STANDARD
TZOFFSETFROM:-0400
TZOFFSETTO:-0500
TZNAME:EST
DTSTART:20221106T060000
END:STANDARD
BEGIN:DAYLIGHT
TZOFFSETFROM:-0500
TZOFFSETTO:-0400
TZNAME:EDT
DTSTART:20230312T070000
END:DAYLIGHT
BEGIN:STANDARD
TZOFFSETFROM:-0400
TZOFFSETTO:-0500
TZNAME:EST
DTSTART:20231105T060000
END:STANDARD
BEGIN:DAYLIGHT
TZOFFSETFROM:-0500
TZOFFSETTO:-0400
TZNAME:EDT
DTSTART:20240310T070000
END:DAYLIGHT
BEGIN:STANDARD
TZOFFSETFROM:-0400
TZOFFSETTO:-0500
TZNAME:EST
DTSTART:20241103T060000
END:STANDARD
END:VTIMEZONE
BEGIN:VEVENT
DTSTART;TZID=America/New_York:20230811T080000
DTEND;TZID=America/New_York:20230811T170000
DTSTAMP:20260423T123508
CREATED:20230811T211733Z
LAST-MODIFIED:20230811T211733Z
UID:97607-1691740800-1691773200@parkavemagazine.com
SUMMARY:Karol G with special guest Agudelo 888
DESCRIPTION:Karol G with special guest Agudelo 888\nGet ready for an explosive night of Latin music! Karol G is coming to Camping World Stadium and bringing her infectious energy and chart-topping hits to the stage. \nKarol G is a Colombian singer\, songwriter\, and rising star in the Latin music scene. Hailing from Medellín\, Colombia\, Karol G began her musical journey at a young age\, honing her skills in rap\, reggaeton\, and Latin pop. \nHer breakthrough came in 2017 with the release of the hit single “Ahora Me Llama\,” featuring Bad Bunny\, which garnered millions of views and put her on the international radar. Since then\, Karol G has become a force to be reckoned with\, earning critical acclaim and a massive following for her unique blend of urban beats\, empowering lyrics\, and infectious melodies. \nTickets \nCamping World Stadium\nCamping World Stadium\, the grandfather of the Orlando Venues facilities\, began as a Works Progress Administration project by President Franklin D. Roosevelt in 1936. The facility was named the Orlando Stadium and was built for $115\,000. The stadium was renamed the Tangerine Bowl in 1947 and the first college football bowl game was played here on January 1\, 1947. Catawba College defeated Maryville College 31-6. At that time\, the stadium seating capacity was 10\,000.
URL:https://parkavemagazine.com/event/karol-g-with-special-guest-agudelo-888/
LOCATION:Camping World Stadium\, 1 Citrus Bowl Place\, Orlando\, FL\, 32805\, United States
CATEGORIES:Music
ATTACH;FMTTYPE=image/jpeg:https://parkavemagazine.com/wp-content/uploads/2023/08/karolg-eventimage-1020x400version2-7a4d8907a6-copy.jpg
END:VEVENT
END:VCALENDAR