BEGIN:VCALENDAR
VERSION:2.0
PRODID:-//Park Ave Magazine | Winter Park Florida - ECPv6.15.17.1//NONSGML v1.0//EN
CALSCALE:GREGORIAN
METHOD:PUBLISH
X-WR-CALNAME:Park Ave Magazine | Winter Park Florida
X-ORIGINAL-URL:https://parkavemagazine.com
X-WR-CALDESC:Events for Park Ave Magazine | Winter Park Florida
REFRESH-INTERVAL;VALUE=DURATION:PT1H
X-Robots-Tag:noindex
X-PUBLISHED-TTL:PT1H
BEGIN:VTIMEZONE
TZID:America/New_York
BEGIN:DAYLIGHT
TZOFFSETFROM:-0500
TZOFFSETTO:-0400
TZNAME:EDT
DTSTART:20220313T070000
END:DAYLIGHT
BEGIN:STANDARD
TZOFFSETFROM:-0400
TZOFFSETTO:-0500
TZNAME:EST
DTSTART:20221106T060000
END:STANDARD
BEGIN:DAYLIGHT
TZOFFSETFROM:-0500
TZOFFSETTO:-0400
TZNAME:EDT
DTSTART:20230312T070000
END:DAYLIGHT
BEGIN:STANDARD
TZOFFSETFROM:-0400
TZOFFSETTO:-0500
TZNAME:EST
DTSTART:20231105T060000
END:STANDARD
BEGIN:DAYLIGHT
TZOFFSETFROM:-0500
TZOFFSETTO:-0400
TZNAME:EDT
DTSTART:20240310T070000
END:DAYLIGHT
BEGIN:STANDARD
TZOFFSETFROM:-0400
TZOFFSETTO:-0500
TZNAME:EST
DTSTART:20241103T060000
END:STANDARD
END:VTIMEZONE
BEGIN:VEVENT
DTSTART;VALUE=DATE:20230729
DTEND;VALUE=DATE:20230731
DTSTAMP:20260421T061823
CREATED:20230722T031908Z
LAST-MODIFIED:20230722T031908Z
UID:97065-1690588800-1690761599@parkavemagazine.com
SUMMARY:Free Improv Class at SAK Comedy Lab
DESCRIPTION:Free Improv Class at SAK Comedy Lab\nJoin a Free Improv Class at SAK Comedy Lab! Register for an experience you’ll never forget. Spots are filling up! \nWe love being able to introduce you to improv! That is why we at SAK offer periodic FREE preview workshops. In these workshops\, we replicate the exact feel of our level one class so that you can safely determine if our classes are for you. Expect to play mostly fun group games and exercises. The environment we build is safe\, supportive and fun! We do ask that if you have taken our free class before to please not register unless you are bringing a new student. We want to make sure everyone can be accommodated with the limited space that we have. \nRules at a Glance: Ages 16+ | New Students Only\nClick here to see all rules & regulations \nPurchase Tickets \nSAK Comedy Lab\nNowhere else in Florida will you find a place like SAK Comedy Lab. Since 1991\, our professional ensemble of improv actors has entertained audiences with our unique brand of live improvised comedy. We take your suggestions and make up characters\, scenes and songs on the spot. Our comedy is fun and edgy for adults\, but also widely enjoyed by our younger fans. \nIf you like the show “Whose Line is it Anyway”\, you’ll like our show. In fact\, SAK was a starting place for the careers of Wayne Brady as well as writers\, actors and producers for “Mad TV”\, “Saturday Night Live”\, and sitcoms such as “Scrubs”\, “The Office” and “30 Rock”. Check out our beautiful 250-seat venue\, grab beer or wine from our concession lobby\, and see the next generation of national comedic talent. \nUpcoming Sessions\nSunday\, Jul 30th 2023 \nTime: 12:30pm\nInstructor: Chris Dinger\nPrice: Free\nRegister \nMonday\, Jul 31st 2023 \nTime: 7:00pm\nInstructor: Chris Dinger\nPrice: Free
URL:https://parkavemagazine.com/event/free-improv-class-at-sak-comedy-lab/
LOCATION:SAK Comedy Lab\, 29 S. Orange Ave.\, Orlando\, FL\, 32801\, United States
CATEGORIES:Comedy,Free
ATTACH;FMTTYPE=image/jpeg:https://parkavemagazine.com/wp-content/uploads/2023/07/Improv_Free_Emphasis.jpg
END:VEVENT
BEGIN:VEVENT
DTSTART;TZID=America/New_York:20230729T093000
DTEND;TZID=America/New_York:20230729T113000
DTSTAMP:20260421T061823
CREATED:20230701T053657Z
LAST-MODIFIED:20230701T053752Z
UID:96752-1690623000-1690630200@parkavemagazine.com
SUMMARY:Lamps and Lighting—Tiffany and His Contemporaries
DESCRIPTION:Lamps and Lighting—Tiffany and His Contemporaries\nView Lamps and Lighting—Tiffany and His Contemporaries at The Charles Hosmer Morse Museum of American Art. Few designers did more to bring art into the home than Louis Comfort Tiffany (1848–1933)\, and few of Tiffany’s incredibly varied products did more in this regard than his lamps. Tiffany had been interested in lighting since his days as a decorator\, but the rapid adoption of electricity in the late nineteenth and early twentieth century created unprecedented opportunities to marry technology and beautiful design for a much larger group of consumers. \nThe new installation of Lamps and Lighting—Tiffany and His Contemporaries showcases some of Tiffany’s most innovative designs for lamps and sets a context for their production and design. John Dikeman’s workbench and lamp molds\, recent acquisitions by the Morse\, illustrate the process used in the creation of a lamp. Dikeman (1882–1967) was the head of Tiffany Studios lamp department until it closed in the 1930s. \nThe Charles Hosmer Morse Museum of American Art\nThe Morse Museum houses the world’s most comprehensive collection of works by Louis Comfort Tiffany (1848–1933)\, including the artist and designer’s jewelry\, pottery\, paintings\, art glass\, leaded-glass lamps and windows; his chapel interior from the 1893 World’s Columbian Exposition in Chicago; and art and architectural objects from his Long Island country estate\, Laurelton Hall. The Museum’s holdings also include American art pottery\, late 19th- and early 20th-century American paintings\, graphics\, and decorative art. \n  \n 
URL:https://parkavemagazine.com/event/lamps-and-lighting-tiffany-and-his-contemporaries/
LOCATION:The Charles Hosmer Morse Museum of American Art\, 445 North Park Avenue\, Winter Park\, FL\, 32789\, United States
CATEGORIES:Art,Local
ATTACH;FMTTYPE=image/jpeg:https://parkavemagazine.com/wp-content/uploads/2023/07/g_banner_visit.jpg
END:VEVENT
END:VCALENDAR