BEGIN:VCALENDAR
VERSION:2.0
PRODID:-//Park Ave Magazine | Winter Park Florida - ECPv6.15.17.1//NONSGML v1.0//EN
CALSCALE:GREGORIAN
METHOD:PUBLISH
X-WR-CALNAME:Park Ave Magazine | Winter Park Florida
X-ORIGINAL-URL:https://parkavemagazine.com
X-WR-CALDESC:Events for Park Ave Magazine | Winter Park Florida
REFRESH-INTERVAL;VALUE=DURATION:PT1H
X-Robots-Tag:noindex
X-PUBLISHED-TTL:PT1H
BEGIN:VTIMEZONE
TZID:America/New_York
BEGIN:DAYLIGHT
TZOFFSETFROM:-0500
TZOFFSETTO:-0400
TZNAME:EDT
DTSTART:20220313T070000
END:DAYLIGHT
BEGIN:STANDARD
TZOFFSETFROM:-0400
TZOFFSETTO:-0500
TZNAME:EST
DTSTART:20221106T060000
END:STANDARD
BEGIN:DAYLIGHT
TZOFFSETFROM:-0500
TZOFFSETTO:-0400
TZNAME:EDT
DTSTART:20230312T070000
END:DAYLIGHT
BEGIN:STANDARD
TZOFFSETFROM:-0400
TZOFFSETTO:-0500
TZNAME:EST
DTSTART:20231105T060000
END:STANDARD
BEGIN:DAYLIGHT
TZOFFSETFROM:-0500
TZOFFSETTO:-0400
TZNAME:EDT
DTSTART:20240310T070000
END:DAYLIGHT
BEGIN:STANDARD
TZOFFSETFROM:-0400
TZOFFSETTO:-0500
TZNAME:EST
DTSTART:20241103T060000
END:STANDARD
END:VTIMEZONE
BEGIN:VEVENT
DTSTART;VALUE=DATE:20230605
DTEND;VALUE=DATE:20230722
DTSTAMP:20260423T074049
CREATED:20230506T011512Z
LAST-MODIFIED:20230506T011634Z
UID:95655-1685923200-1689983999@parkavemagazine.com
SUMMARY:Archery Summer Camps 2023
DESCRIPTION:Archery Summer Camps 2023\nArchery Summer Camps 2023 are a great opportunity for kids to learn and sharpen their archery skills. \nParticipants will learn the fundamentals of archery\, including how to aim\, shoot\, and improve their accuracy. \nThe camp also provides kids with the chance to compete in friendly competitions and make new friends who share their interests in archery. \nWith experienced instructors and a great indoor/outdoor setting\, this 2023 archery summer camp is a fantastic way to spend summer days while gaining new skills and having fun!\nAll Equipment will be provided. Snacks will be provided. Just bring a boxed lunch! \nAGES 6 – 14 \nWater bottle & hat are also recommended.\n$300/week per child \n  \nWinter Park Presbyterian Church- 400 S Lakemont Ave\, Winter Park\, FL 32792\nJune 5th – 9th | 8am – 3pm \nRegister Now\n————————————————————– \nJune 12th – 16th | 8am – 3pm \nRegister Now\n————————————————————— \nJuly 17th – 21st | 8am – 3pm \nRegister Now\nGregory Archery\nWelcome to GREGORY ARCHERY. \nWe’re Florida’s most convenient archery range & Florida’s best place for Archery Tag! \nI’m Coach Mason\, the owner & head coach of GREGORY ARCHERY. In my division\, I’ve been ranked 3rd in the state of Florida and 102nd in America. \nI have taught over a thousand people how to shoot a bow & arrow. \nIn my career as an archery instructor\, I have trained numerous people to achieve gold\, silver\, and bronze medals. I have taught adults\, kids\, families\, cops\, veterans\, firefighters\, etc. \nNobody is unteachable! \nAll members of our staff are USA Archery and U.S. Center for SAFESPORT certified. Each instructor is background checked and drug tested regularly. We work with Orange County Public Schools & we volunteer with the OCPS Partners In Education program.
URL:https://parkavemagazine.com/event/archery-summer-camps-2023/
LOCATION:Winter Park Presbyterian Church\, 400 S Lakemont Ave\, Winter Park\, FL\, 32792\, United States
CATEGORIES:Summer Camps
ATTACH;FMTTYPE=image/jpeg:https://parkavemagazine.com/wp-content/uploads/2023/05/307132676_457543779745399_1079977779636194624_n.jpg
END:VEVENT
BEGIN:VEVENT
DTSTART;TZID=America/New_York:20230605T080000
DTEND;TZID=America/New_York:20230721T150000
DTSTAMP:20260423T074049
CREATED:20230503T152139Z
LAST-MODIFIED:20230503T152823Z
UID:95552-1685952000-1689951600@parkavemagazine.com
SUMMARY:Gregory Archery | Summer Camp Orlando
DESCRIPTION:Gregory Archery Summer Camp Orlando is a great opportunity for kids to learn and sharpen their archery skills. \nParticipants will learn the fundamentals of archery\, including how to aim\, shoot\, and improve their accuracy. \nThe camp also provides kids with the chance to compete in friendly competitions and make new friends who share their interest in archery. \nWith experienced instructors and a great indoor/outdoor setting\, this 2023 archery summer camp is a fantastic way to spend summer days while gaining new skills and having fun! Don’t miss all the fun this summer that comes along with Gregory Archery Summer Camp Orlando! \nReview our article about Fun Summer Activities For Kids! \nALL EQUIPMENT WILL BE PROVIDED. SNACKS WILL BE PROVIDED. JUST BRING A BOXED LUNCH! \nAGES 6 – 14 \nWATER BOTTLE & HAT ARE ALSO RECOMMENDED.\n$300/WEEK PER CHILD \nARCHERY WAIVER\nPlease fill out the waiver HERE or email us for the required waiver and then Email your completed waiver to gregoryarcheryflorida@gmail.com \nDATES & LOCATIONS:\n————————————————————— \nWINTER PARK PRESBYTERIAN CHURCH- 400 S LAKEMONT AVE\, WINTER PARK\, FL 32792\nJune 5th – 9th \n8am – 3pm \nGregory Archery Summer Camp Orlando REGISTER NOW\nJune 12th – 16th \n8am – 3pm \nGregory Archery is Florida’s most convenient archery range & Florida’s best place for Archery Tag! \nI’m Coach Mason\, the owner & head coach of GREGORY ARCHERY. In my division\, I’ve been ranked 3rd in the state of Florida and 102nd in America. \nI have taught over a thousand people how to shoot a bow & arrow. \nIn my career as an archery instructor\, I have trained numerous people to achieve gold\, silver\, and bronze medals. I have taught adults\, kids\, families\, cops\, veterans\, firefighters\, etc. \nNobody is unteachable! \nAll members of our staff are USA Archery and U.S. Center for SAFESPORT certified. Each instructor is background checked and drug tested regularly. We work with Orange County Public Schools & we volunteer with the OCPS Partners In Education program.
URL:https://parkavemagazine.com/event/gregory-archery-summer-camp-orlando-2023/
LOCATION:FL
CATEGORIES:Central Florida,Classes,Education,Events,Florida,Kids,Local,Summer Camps
ATTACH;FMTTYPE=image/jpeg:https://parkavemagazine.com/wp-content/uploads/2023/05/Gregory-Archery-Summer-Camp-Orlando.jpg
END:VEVENT
BEGIN:VEVENT
DTSTART;TZID=America/New_York:20230716T110000
DTEND;TZID=America/New_York:20230716T130000
DTSTAMP:20260423T074049
CREATED:20230520T005635Z
LAST-MODIFIED:20230520T005635Z
UID:95890-1689505200-1689512400@parkavemagazine.com
SUMMARY:July - 407 Brunch Club
DESCRIPTION:July – 407 Brunch Club\nJoin us for the July – 407 Brunch Club. What’s better than to let loose\, explore\, eat\, drink\, and just get mingle? 💃🏻💃🏻 \nPlease do not forget to RSVP. And if you do need to cancel we do appreciate if you do so via eventbrite. \nThis all is a necessary help for the restaurant and staff to prepare for our alwayss large group! \n** This is a FREE Event. You are responsible for your own food and beverage tab ** \nThis is NOT a networking event\, but certainly a fun way to meet some amazing ladies! \nOur male counterparts\, as much as we love them\, get to lord over our weekends with their early tee-times\, fishing charter trips or simply just cleaning up after them. \n🗣 We need to start making time for ourselves! \nThis is a regularly occurring event / tradition held by only the most awesome of women on select Sundays of every month (holidays allowing) to give us time to connect\, unwind\, get an update about the female condition\, and have as many mimosas as our hearts desire! \nYou don’t have to drink if you don’t want to. \nBring your friends\, mothers\, and sisters- even the kids (with some earplugs as real adult talk is normal)! 👯‍♀️💃🏽 \nJust come out to have fun and toast to the successes we each share! ✊🏼 \nBest part: you don’t have to wake up early or stay out too late! Yaas! 🥂 \nBrought to you by 321 Boss Babes. \nRegister Here \nCan’t make this one? Check out our upcoming events and locations below: \n4/23/23 – Vines Grille & Wine Bar\n6/11/23 – American Social\n7/16/23 – SOCO Thornton Park\n8/13/23 – Tapa Toro\n9/17/23 – Mia’s Italian Kitchen\n10/15/23 – Graffiti Junction \n 
URL:https://parkavemagazine.com/event/july-407-brunch-club/
LOCATION:Soco Restaurant\, 629 East Central Boulevard\, Orlando\, FL\, 32801\, United States
CATEGORIES:Food,Women
ATTACH;FMTTYPE=image/jpeg:https://parkavemagazine.com/wp-content/uploads/2023/05/326054172_3585846398309603_9133090787420952340_n.jpg
END:VEVENT
END:VCALENDAR