BEGIN:VCALENDAR
VERSION:2.0
PRODID:-//Park Ave Magazine | Winter Park Florida - ECPv6.15.17.1//NONSGML v1.0//EN
CALSCALE:GREGORIAN
METHOD:PUBLISH
X-ORIGINAL-URL:https://parkavemagazine.com
X-WR-CALDESC:Events for Park Ave Magazine | Winter Park Florida
REFRESH-INTERVAL;VALUE=DURATION:PT1H
X-Robots-Tag:noindex
X-PUBLISHED-TTL:PT1H
BEGIN:VTIMEZONE
TZID:America/New_York
BEGIN:DAYLIGHT
TZOFFSETFROM:-0500
TZOFFSETTO:-0400
TZNAME:EDT
DTSTART:20220313T070000
END:DAYLIGHT
BEGIN:STANDARD
TZOFFSETFROM:-0400
TZOFFSETTO:-0500
TZNAME:EST
DTSTART:20221106T060000
END:STANDARD
BEGIN:DAYLIGHT
TZOFFSETFROM:-0500
TZOFFSETTO:-0400
TZNAME:EDT
DTSTART:20230312T070000
END:DAYLIGHT
BEGIN:STANDARD
TZOFFSETFROM:-0400
TZOFFSETTO:-0500
TZNAME:EST
DTSTART:20231105T060000
END:STANDARD
BEGIN:DAYLIGHT
TZOFFSETFROM:-0500
TZOFFSETTO:-0400
TZNAME:EDT
DTSTART:20240310T070000
END:DAYLIGHT
BEGIN:STANDARD
TZOFFSETFROM:-0400
TZOFFSETTO:-0500
TZNAME:EST
DTSTART:20241103T060000
END:STANDARD
END:VTIMEZONE
BEGIN:VEVENT
DTSTART;TZID=America/New_York:20230510T200000
DTEND;TZID=America/New_York:20230510T220000
DTSTAMP:20260421T062439
CREATED:20230408T005756Z
LAST-MODIFIED:20230408T005756Z
UID:95010-1683748800-1683756000@parkavemagazine.com
SUMMARY:JazzPro Series Presents: CuBop
DESCRIPTION:JazzPro Series Presents: CuBop\nJazzPro Series Presents: CuBop – Celebrating the Latin infused side of the Blue Note catalog\, CuBop’s origin stems from the fusion of the Afro-Cuban and BeBop sounds of stylistic pioneers Dizzy Gillespie\, Art Blakey & The Jazz Messengers\, and Horace Silver. \nSince the group’s inception\, the CuBop catalog has expanded to cover a wide array of styles in the jazz idiom from Latin-Jazz to Hard Bop and to more progressive avant-garde styles all rooted within the classic quintet and sextet format. \nFeaturing Marco Bojorquez on bass\, Bob Thornton on piano\, Greg Parnell on drums\, Joe Breidenstine on trumpet\, Jeremy Fratti on sax\, and Frank Wosar on trombone. \nTo view photos and videos of CuBop\, visit – https://bluebambooartcenter.com/cubop \n \n \nThe Blue Bamboo Music Center For The Arts\nThe Blue Bamboo Music Center For The Arts is an independent performance venue and art gallery at 1905 Kentucky Ave. Winter Park FL 32789. \nBlue Bamboo Music Center for the Arts is located at 1905 Kentucky Ave in Winter Park\, FL. The facility was built inside a 4\,000 square foot warehouse\, and includes a music performance space with a capacity for 100 + guests\, audio and video recording capability\, an art gallery\, recording company\, and practice rooms for music lessons.
URL:https://parkavemagazine.com/event/jazzpro-series-presents-cubop/
LOCATION:Blue Bamboo Center for the Arts\, 1905 Kentucky Ave\, Winter Park\, FL\, 32789\, United States
CATEGORIES:Music
ATTACH;FMTTYPE=image/jpeg:https://parkavemagazine.com/wp-content/uploads/2023/04/338171853_488203376716224_5494200687109467632_n.jpg
END:VEVENT
END:VCALENDAR