BEGIN:VCALENDAR
VERSION:2.0
PRODID:-//Park Ave Magazine | Winter Park Florida - ECPv6.15.17.1//NONSGML v1.0//EN
CALSCALE:GREGORIAN
METHOD:PUBLISH
X-ORIGINAL-URL:https://parkavemagazine.com
X-WR-CALDESC:Events for Park Ave Magazine | Winter Park Florida
REFRESH-INTERVAL;VALUE=DURATION:PT1H
X-Robots-Tag:noindex
X-PUBLISHED-TTL:PT1H
BEGIN:VTIMEZONE
TZID:America/New_York
BEGIN:DAYLIGHT
TZOFFSETFROM:-0500
TZOFFSETTO:-0400
TZNAME:EDT
DTSTART:20220313T070000
END:DAYLIGHT
BEGIN:STANDARD
TZOFFSETFROM:-0400
TZOFFSETTO:-0500
TZNAME:EST
DTSTART:20221106T060000
END:STANDARD
BEGIN:DAYLIGHT
TZOFFSETFROM:-0500
TZOFFSETTO:-0400
TZNAME:EDT
DTSTART:20230312T070000
END:DAYLIGHT
BEGIN:STANDARD
TZOFFSETFROM:-0400
TZOFFSETTO:-0500
TZNAME:EST
DTSTART:20231105T060000
END:STANDARD
BEGIN:DAYLIGHT
TZOFFSETFROM:-0500
TZOFFSETTO:-0400
TZNAME:EDT
DTSTART:20240310T070000
END:DAYLIGHT
BEGIN:STANDARD
TZOFFSETFROM:-0400
TZOFFSETTO:-0500
TZNAME:EST
DTSTART:20241103T060000
END:STANDARD
END:VTIMEZONE
BEGIN:VEVENT
DTSTART;VALUE=DATE:20230129
DTEND;VALUE=DATE:20230313
DTSTAMP:20260419T092057
CREATED:20230107T010915Z
LAST-MODIFIED:20230107T010915Z
UID:93425-1674950400-1678665599@parkavemagazine.com
SUMMARY:A Wellness Based Class for the Novice Improviser @ SAK Comedy Lab
DESCRIPTION:Improv For Anxiety: A Wellness-Based Class for the Novice Improviser\nPrice: $250.00 | Instructor: Chris Dinger \nImprov For Anxiety is a wellness-based class for the Novice Improviser from SAK Comedy Lab. It’s purpose is to help people who suffer from anxiety learn to live richer\, fuller and more meaningful lives. Whether it’s social anxiety\, stage fright\, public speaking anxiety\, or general anxiety\, improvisation creates an ideal experiential learning environment to practice dealing with your anxiety in a totally different way. \nThrough basic improv exercises\, participants will learn to use the tools of acceptance\, non-judgement\, and present moment awareness to address the thoughts and feelings that can get in the way of living fully. This class examines how the stories we tell ourselves often create unnecessary suffering\, and explores what we can do to bring healing to this area. If you’re someone who has an interest in meeting people in a fun\, accepting environment\, and also want to experience an improv class but with a lighter touch… this class is for you. \nThe first class on 1/29 will be the longest at 3 hours. The remaining five classes are 2 hours each. There will be a break week on February 12th. \nImprov for Anxiety (Six Week Program)\nSundays from 12:30pm — 2:30pm | 6 classes: Jan 29 – Mar 12\, 2023 \nRules at a Glance: Ages 16+ \nClick here to see all rules & regulations \nRegister Here: https://www.sakcomedylab.com/classes/996 \nAbout SAK Comedy Lab\nNowhere else in Florida will you find a place like SAK Comedy Lab. Since 1991\, our professional ensemble of improv actors has entertained audiences with our unique brand of live improvised comedy. We take your suggestions and make up characters\, scenes and songs on the spot. Our comedy is fun and edgy for adults\, but also widely enjoyed by our younger fans.
URL:https://parkavemagazine.com/event/improv-for-anxiety-sak-comedy-lab/
LOCATION:SAK Comedy Lab\, 29 S. Orange Ave.\, Orlando\, FL\, 32801\, United States
CATEGORIES:Classes,Comedy
ATTACH;FMTTYPE=image/jpeg:https://parkavemagazine.com/wp-content/uploads/2023/01/34aa85ac41d72f023564afaebd76fca8.jpg
END:VEVENT
BEGIN:VEVENT
DTSTART;VALUE=DATE:20230221
DTEND;VALUE=DATE:20230321
DTSTAMP:20260419T092057
CREATED:20230318T023451Z
LAST-MODIFIED:20230318T023451Z
UID:94645-1676937600-1679356799@parkavemagazine.com
SUMMARY:Mister Rogers Walking Tour @ Rollins College
DESCRIPTION:Mister Rogers Walking Tour @ Rollins College\nMister Rogers Walking Tour @ Rollins College – Rollins is honoring its most famous alumnus––Fred Rogers’ ’51 ’74H––with the annual\, free\, Mister Rogers self-guided walking tour around campus. \nExplore the neighborhood that shaped Mister Rogers on this self-guided walking tour of Rollins College\, and find out how we’re keeping his legacy alive on America’s most beautiful campus. Along the way\, you’ll experience exclusive Mister Rogers memorabilia and artwork and get a feel for how we’re educating the next generation of global citizens and responsible leaders. In honor of Fred’s birthday\, the tour will be offered from February 21-March 20\, Monday-Friday 10 a.m. – 4 p.m. Pick up a map at Olin Library (Stop 1) or print the downloadable map below. Contact External Relations at 407-646-1520 or rmhopkins@rollins.edu for details. \nWHEN\nFeb. 21 – March 20\nOffered daily from 10 a.m. to 4 p.m. \nThe first stop is at Olin Library where you’ll pick up a map of the five tour stops and view the sweater and sneakers Fred wore on his television program\, “Mister Rogers’ Neighborhood.” \nYou’ll conclude your tour at the Mister Rogers sculpture\, nestled between the Annie Russell Theatre and Knowles Memorial Chapel. \nTo learn more about the walking tour\, visit: https://www.rollins.edu/mister-rogers/walking-tour \nAbout Rollins College\nFounded in 1885 by New England Congregationalists who sought to bring their style of liberal arts education to the Florida frontier\, Rollins is a four-year\, coeducational institution and the first recognized college in Florida. Rollins College is located on the banks of Lake Virginia in Winter Park\, Florida\, just north of Orlando.
URL:https://parkavemagazine.com/event/mister-rogers-walking-tour-rollins-college/
LOCATION:Rollins College\, 1000 Holt Ave\,\, Winter Park\, FL\, 32789\, United States
ATTACH;FMTTYPE=image/jpeg:https://parkavemagazine.com/wp-content/uploads/2023/03/331809154_1584617085339657_5489599345873878369_n.jpg
END:VEVENT
BEGIN:VEVENT
DTSTART;TZID=America/New_York:20230301T180000
DTEND;TZID=America/New_York:20230301T210000
DTSTAMP:20260419T092057
CREATED:20230225T024959Z
LAST-MODIFIED:20230225T030716Z
UID:94335-1677693600-1677704400@parkavemagazine.com
SUMMARY:Becoming a Bombshell Workshop Series Week 1
DESCRIPTION:Becoming a Bombshell Workshop Series Week 1\nBecoming a Bombshell Workshop Series Week 1 | Week 1: Psychology of Confidence \nThe Bombshells Cosplay presents an in depth exploration on the psychology behind what it really takes to be a Bombshell on and off the stage. We will give you the tools to become your most confident self in your performance and teach you to use those same skills in your everyday life. Those who complete the full workshop series will have the opportunity to bring their new found talents to the stage in our Bombshell showcase! \nParticipate in all\, or only one of these workshops. Week 1 will focus on the psychology of confidence while Week 2 will be about confidence within specific performance skills\, and Week 3 will be a “coached rehearsal” for the final showcase performers where they can rehearse their skill with one on one coaching from our experts. \n100% of Pay What You Can Donations go directly to the presenting artists. \nAges 18 and up \nRegister Here \nOrlando Fringe\nOrlando Fringe is committed and strives to be a respectful\, safer environment free from harassment\, violence\, discrimination\, bullying\, and abuse. All community members should be treated with respect and dignity. We provide opportunities for everyone to contribute and participate in all events and activities whenever possible. We will not tolerate participation in activities or behaviors that discriminate on the grounds of race\, gender\, age\, marital status\, religious beliefs\, citizenship\, mental and physical abilities\, or sexual orientation.
URL:https://parkavemagazine.com/event/becoming-a-bombshell-workshop-series-week-1/
LOCATION:54 Church St W\, Orlando\, FL 32801-3320\, United States\, 54 Church St W.\, Orlando\, FL\, 32801-3320\, United States
CATEGORIES:Theater
END:VEVENT
END:VCALENDAR