BEGIN:VCALENDAR
VERSION:2.0
PRODID:-//Park Ave Magazine | Winter Park Florida - ECPv6.15.17.1//NONSGML v1.0//EN
CALSCALE:GREGORIAN
METHOD:PUBLISH
X-ORIGINAL-URL:https://parkavemagazine.com
X-WR-CALDESC:Events for Park Ave Magazine | Winter Park Florida
REFRESH-INTERVAL;VALUE=DURATION:PT1H
X-Robots-Tag:noindex
X-PUBLISHED-TTL:PT1H
BEGIN:VTIMEZONE
TZID:America/New_York
BEGIN:DAYLIGHT
TZOFFSETFROM:-0500
TZOFFSETTO:-0400
TZNAME:EDT
DTSTART:20220313T070000
END:DAYLIGHT
BEGIN:STANDARD
TZOFFSETFROM:-0400
TZOFFSETTO:-0500
TZNAME:EST
DTSTART:20221106T060000
END:STANDARD
BEGIN:DAYLIGHT
TZOFFSETFROM:-0500
TZOFFSETTO:-0400
TZNAME:EDT
DTSTART:20230312T070000
END:DAYLIGHT
BEGIN:STANDARD
TZOFFSETFROM:-0400
TZOFFSETTO:-0500
TZNAME:EST
DTSTART:20231105T060000
END:STANDARD
BEGIN:DAYLIGHT
TZOFFSETFROM:-0500
TZOFFSETTO:-0400
TZNAME:EDT
DTSTART:20240310T070000
END:DAYLIGHT
BEGIN:STANDARD
TZOFFSETFROM:-0400
TZOFFSETTO:-0500
TZNAME:EST
DTSTART:20241103T060000
END:STANDARD
END:VTIMEZONE
BEGIN:VEVENT
DTSTART;TZID=America/New_York:20230121T173000
DTEND;TZID=America/New_York:20230121T213000
DTSTAMP:20260423T075048
CREATED:20221216T234653Z
LAST-MODIFIED:20221216T234653Z
UID:93222-1674322200-1674336600@parkavemagazine.com
SUMMARY:Gala to Celebrate Ritz’ 100th Anniversary
DESCRIPTION:Gala to Celebrate Ritz’ 100th Anniversary\nThe restored\, historic Ritz Theater Sanford is celebrating its 100th anniversary with a black tie/roaring 20s gala fundraiser street party and we invite the community to join us. It’s a Gala to Celebrate Ritz’ 100th Anniversary. The evening’s live entertainment will feature the Sanford Jazz Ensemble’s music through the decades (featuring singer Courtney Johnson) and an awards ceremony celebrating the Theater’s volunteer actor achievements. Guests will enjoy a catered buffet dinner by Top Hat Catering; street entertainment; a traditional silent auction with theater tickets\, a 70” Indoor/Outdoor Projector\, a backyard porch heater\, curated baskets\, and other great items. \nAn “online silent auction” will feature an 8-Day Viking River Cruise-Rhine Getaway valued at $8\,000 provided by donors Mary Trotter of Viking Cruises and Jeff Page of Cruise Planners\, both will be at the event. Patrons do not need to be present to participate in the online auction\, but we would love if you did. Details about this package and to place your bid\, visit https://tinyurl.com/RitzRhine. This online auction is open now through 7PM the night of the event. \nPurchase Tickets\nGala tickets are $35 each or a $60 package for 2 guests at https://tinyurl.com/potr23tickets or 407-321-8111. \nSponsored by CPH\, Inc. and Wayne Densch\, Inc. Sponsorship packages begin at $350 for a table of 8\, with other levels available with added benefits. To receive a sponsorship form\, please send your inquiry to marketing@ritztheatersanford.com. \nAbout The Ritz Theater\n\nThe Ritz Theater is celebrating its 100th Anniversary Season of serving the community with a variety of big named tribute performances\, concerts\, free family movie nights\, a history display\, popular theatricals\, and special events. Learn more at www.ritztheatersanford.com/100. \nThe Theater is located at 201 S. Magnolia Avenue in historic downtown Sanford\, FL. The box office ticket window is open Mon. through Fri. 9:30am to 5:30pm and 2 hours prior to each performance.
URL:https://parkavemagazine.com/event/gala-to-celebrate-ritz-100th-anniversary/
LOCATION:The Ritz Theater At Wayne Densch Performing Arts Center\, 201 S. Magnolia Avenue\, Sanford\, FL\, 32771
CATEGORIES:History,Nightlife,Theater
ATTACH;FMTTYPE=image/png:https://parkavemagazine.com/wp-content/uploads/2022/12/Ritz_100_Logo-color-768x425-1.png
END:VEVENT
END:VCALENDAR