BEGIN:VCALENDAR
VERSION:2.0
PRODID:-//Park Ave Magazine | Winter Park Florida - ECPv6.15.17.1//NONSGML v1.0//EN
CALSCALE:GREGORIAN
METHOD:PUBLISH
X-ORIGINAL-URL:https://parkavemagazine.com
X-WR-CALDESC:Events for Park Ave Magazine | Winter Park Florida
REFRESH-INTERVAL;VALUE=DURATION:PT1H
X-Robots-Tag:noindex
X-PUBLISHED-TTL:PT1H
BEGIN:VTIMEZONE
TZID:America/New_York
BEGIN:DAYLIGHT
TZOFFSETFROM:-0500
TZOFFSETTO:-0400
TZNAME:EDT
DTSTART:20220313T070000
END:DAYLIGHT
BEGIN:STANDARD
TZOFFSETFROM:-0400
TZOFFSETTO:-0500
TZNAME:EST
DTSTART:20221106T060000
END:STANDARD
BEGIN:DAYLIGHT
TZOFFSETFROM:-0500
TZOFFSETTO:-0400
TZNAME:EDT
DTSTART:20230312T070000
END:DAYLIGHT
BEGIN:STANDARD
TZOFFSETFROM:-0400
TZOFFSETTO:-0500
TZNAME:EST
DTSTART:20231105T060000
END:STANDARD
BEGIN:DAYLIGHT
TZOFFSETFROM:-0500
TZOFFSETTO:-0400
TZNAME:EDT
DTSTART:20240310T070000
END:DAYLIGHT
BEGIN:STANDARD
TZOFFSETFROM:-0400
TZOFFSETTO:-0500
TZNAME:EST
DTSTART:20241103T060000
END:STANDARD
END:VTIMEZONE
BEGIN:VEVENT
DTSTART;TZID=America/New_York:20230117T080000
DTEND;TZID=America/New_York:20230117T170000
DTSTAMP:20260419T104114
CREATED:20221112T030228Z
LAST-MODIFIED:20221112T030228Z
UID:92821-1673942400-1673974800@parkavemagazine.com
SUMMARY:National Night Out
DESCRIPTION:National Night Out at Candyland Park in Longwood\, FL\nNational Night Out at Candyland Park in Longwood\, FL \n*FREE MEAL- hot dog\, water/soda\, side – *** Sponsored by Winn-Dixie ***\n*Annual Police vs. Fire Kickball game\n*Neighborhood Watch information\n*FREE Bounce houses & kids activities\n*Community partner/business displays\n*And much more! \nNational Night Out is an annual community-building campaign that promotes police-community partnerships and neighborhood camaraderie to make our neighborhoods safer and more caring places to live. National Night Out enhances the relationship between neighbors and law enforcement while bringing back a true sense of community. Furthermore\, it provides a great opportunity to bring police and neighbors together under positive circumstances.\nTo become a vendor or sponsor: https://www.longwoodfl.org/608/VendorsSponsorship-Opportunities\nor contact Ryan Rinaldo\, at 407-260-3497 / email rrinaldo@longwoodfl.org. \nCity of Longwood\, FL\nLongwood has been a destination point for Florida travelers since coastal tribes used The Senator\, an ancient bald cypress\, to find their way overland from the St. Johns River to trading grounds at Spring Hammock. This was what the wilderness sanctuary early tribes found when they escaped inland from the Spanish. \nLater\, when Creeks and others from the tribes of the Southeast United States fled into Spanish Florida and settled new villages among escaped African slaves\, they became the Seminoles. The word “Seminole” is adopted from Spanish and Creek terms for people who live away from others. The Senator\, at more than 3000 years old\, is easily Central Florida’s oldest tourist attraction and can still be seen today at Big Tree Park in Seminole County’s Spring Hammock Preserve near Longwood.
URL:https://parkavemagazine.com/event/national-night-out/
LOCATION:Candyland Park\, 599 Longdale Ave\, Longwood\, FL\, 32750\, United States
CATEGORIES:Free,Local,Sports
ATTACH;FMTTYPE=image/jpeg:https://parkavemagazine.com/wp-content/uploads/2022/11/313403475_543616634436827_4356678847394149450_n.jpg
END:VEVENT
END:VCALENDAR